BEGIN:VCALENDAR
VERSION:2.0
PRODID:-//Cayuga County Chamber of Commerce | Auburn, NY - ECPv6.15.19//NONSGML v1.0//EN
CALSCALE:GREGORIAN
METHOD:PUBLISH
X-WR-CALNAME:Cayuga County Chamber of Commerce | Auburn, NY
X-ORIGINAL-URL:https://cayugacountychamber.com
X-WR-CALDESC:Events for Cayuga County Chamber of Commerce | Auburn, NY
REFRESH-INTERVAL;VALUE=DURATION:PT1H
X-Robots-Tag:noindex
X-PUBLISHED-TTL:PT1H
BEGIN:VTIMEZONE
TZID:America/New_York
BEGIN:DAYLIGHT
TZOFFSETFROM:-0500
TZOFFSETTO:-0400
TZNAME:EDT
DTSTART:20250309T070000
END:DAYLIGHT
BEGIN:STANDARD
TZOFFSETFROM:-0400
TZOFFSETTO:-0500
TZNAME:EST
DTSTART:20251102T060000
END:STANDARD
BEGIN:DAYLIGHT
TZOFFSETFROM:-0500
TZOFFSETTO:-0400
TZNAME:EDT
DTSTART:20260308T070000
END:DAYLIGHT
BEGIN:STANDARD
TZOFFSETFROM:-0400
TZOFFSETTO:-0500
TZNAME:EST
DTSTART:20261101T060000
END:STANDARD
BEGIN:DAYLIGHT
TZOFFSETFROM:-0500
TZOFFSETTO:-0400
TZNAME:EDT
DTSTART:20270314T070000
END:DAYLIGHT
BEGIN:STANDARD
TZOFFSETFROM:-0400
TZOFFSETTO:-0500
TZNAME:EST
DTSTART:20271107T060000
END:STANDARD
END:VTIMEZONE
BEGIN:VEVENT
DTSTART;TZID=America/New_York:20260415T100000
DTEND;TZID=America/New_York:20260602T170000
DTSTAMP:20260419T114227
CREATED:20260327T165951Z
LAST-MODIFIED:20260327T170017Z
UID:10006319-1776247200-1780419600@cayugacountychamber.com
SUMMARY:Made in NY
DESCRIPTION:This is the 30th annual Made in NY exhibition\, a juried show at the Schweinfurth Art Center located in Auburn\, NY\, that features work by artists who live in New York State. The exhibit is an opportunity for artists to showcase their work in a competitive\, juried exhibition. Prizes will be awarded\, including $1000 for Best of Show.   See website for more information and hours.
URL:https://cayugacountychamber.com/event/made-in-ny/2026-04-15/
LOCATION:Schweinfurth Art Center\, 205 Genesee St\, Syracuse\, 13021
CATEGORIES:Community Events
ATTACH;FMTTYPE=image/jpeg:https://cayugacountychamber.com/wp-content/uploads/MINY.AnnalisaBarron.Alesund-Wind-Seat.2025.jpg
END:VEVENT
BEGIN:VEVENT
DTSTART;TZID=America/New_York:20260416T100000
DTEND;TZID=America/New_York:20260603T170000
DTSTAMP:20260419T114227
CREATED:20260327T165951Z
LAST-MODIFIED:20260327T170017Z
UID:10006320-1776333600-1780506000@cayugacountychamber.com
SUMMARY:Made in NY
DESCRIPTION:This is the 30th annual Made in NY exhibition\, a juried show at the Schweinfurth Art Center located in Auburn\, NY\, that features work by artists who live in New York State. The exhibit is an opportunity for artists to showcase their work in a competitive\, juried exhibition. Prizes will be awarded\, including $1000 for Best of Show.   See website for more information and hours.
URL:https://cayugacountychamber.com/event/made-in-ny/2026-04-16/
LOCATION:Schweinfurth Art Center\, 205 Genesee St\, Syracuse\, 13021
CATEGORIES:Community Events
ATTACH;FMTTYPE=image/jpeg:https://cayugacountychamber.com/wp-content/uploads/MINY.AnnalisaBarron.Alesund-Wind-Seat.2025.jpg
END:VEVENT
BEGIN:VEVENT
DTSTART;TZID=America/New_York:20260417T100000
DTEND;TZID=America/New_York:20260604T170000
DTSTAMP:20260419T114227
CREATED:20260327T165951Z
LAST-MODIFIED:20260327T170017Z
UID:10006321-1776420000-1780592400@cayugacountychamber.com
SUMMARY:Made in NY
DESCRIPTION:This is the 30th annual Made in NY exhibition\, a juried show at the Schweinfurth Art Center located in Auburn\, NY\, that features work by artists who live in New York State. The exhibit is an opportunity for artists to showcase their work in a competitive\, juried exhibition. Prizes will be awarded\, including $1000 for Best of Show.   See website for more information and hours.
URL:https://cayugacountychamber.com/event/made-in-ny/2026-04-17/
LOCATION:Schweinfurth Art Center\, 205 Genesee St\, Syracuse\, 13021
CATEGORIES:Community Events
ATTACH;FMTTYPE=image/jpeg:https://cayugacountychamber.com/wp-content/uploads/MINY.AnnalisaBarron.Alesund-Wind-Seat.2025.jpg
END:VEVENT
BEGIN:VEVENT
DTSTART;TZID=America/New_York:20260418T100000
DTEND;TZID=America/New_York:20260605T170000
DTSTAMP:20260419T114227
CREATED:20260327T165951Z
LAST-MODIFIED:20260327T170017Z
UID:10006322-1776506400-1780678800@cayugacountychamber.com
SUMMARY:Made in NY
DESCRIPTION:This is the 30th annual Made in NY exhibition\, a juried show at the Schweinfurth Art Center located in Auburn\, NY\, that features work by artists who live in New York State. The exhibit is an opportunity for artists to showcase their work in a competitive\, juried exhibition. Prizes will be awarded\, including $1000 for Best of Show.   See website for more information and hours.
URL:https://cayugacountychamber.com/event/made-in-ny/2026-04-18/
LOCATION:Schweinfurth Art Center\, 205 Genesee St\, Syracuse\, 13021
CATEGORIES:Community Events
ATTACH;FMTTYPE=image/jpeg:https://cayugacountychamber.com/wp-content/uploads/MINY.AnnalisaBarron.Alesund-Wind-Seat.2025.jpg
END:VEVENT
BEGIN:VEVENT
DTSTART;TZID=America/New_York:20260419T100000
DTEND;TZID=America/New_York:20260606T170000
DTSTAMP:20260419T114227
CREATED:20260327T165951Z
LAST-MODIFIED:20260327T170017Z
UID:10006323-1776592800-1780765200@cayugacountychamber.com
SUMMARY:Made in NY
DESCRIPTION:This is the 30th annual Made in NY exhibition\, a juried show at the Schweinfurth Art Center located in Auburn\, NY\, that features work by artists who live in New York State. The exhibit is an opportunity for artists to showcase their work in a competitive\, juried exhibition. Prizes will be awarded\, including $1000 for Best of Show.   See website for more information and hours.
URL:https://cayugacountychamber.com/event/made-in-ny/2026-04-19/
LOCATION:Schweinfurth Art Center\, 205 Genesee St\, Syracuse\, 13021
CATEGORIES:Community Events
ATTACH;FMTTYPE=image/jpeg:https://cayugacountychamber.com/wp-content/uploads/MINY.AnnalisaBarron.Alesund-Wind-Seat.2025.jpg
END:VEVENT
BEGIN:VEVENT
DTSTART;TZID=America/New_York:20260422T100000
DTEND;TZID=America/New_York:20260609T170000
DTSTAMP:20260419T114227
CREATED:20260327T165951Z
LAST-MODIFIED:20260327T170017Z
UID:10006324-1776852000-1781024400@cayugacountychamber.com
SUMMARY:Made in NY
DESCRIPTION:This is the 30th annual Made in NY exhibition\, a juried show at the Schweinfurth Art Center located in Auburn\, NY\, that features work by artists who live in New York State. The exhibit is an opportunity for artists to showcase their work in a competitive\, juried exhibition. Prizes will be awarded\, including $1000 for Best of Show.   See website for more information and hours.
URL:https://cayugacountychamber.com/event/made-in-ny/2026-04-22/
LOCATION:Schweinfurth Art Center\, 205 Genesee St\, Syracuse\, 13021
CATEGORIES:Community Events
ATTACH;FMTTYPE=image/jpeg:https://cayugacountychamber.com/wp-content/uploads/MINY.AnnalisaBarron.Alesund-Wind-Seat.2025.jpg
END:VEVENT
BEGIN:VEVENT
DTSTART;TZID=America/New_York:20260423T100000
DTEND;TZID=America/New_York:20260610T170000
DTSTAMP:20260419T114227
CREATED:20260327T165951Z
LAST-MODIFIED:20260327T170017Z
UID:10006325-1776938400-1781110800@cayugacountychamber.com
SUMMARY:Made in NY
DESCRIPTION:This is the 30th annual Made in NY exhibition\, a juried show at the Schweinfurth Art Center located in Auburn\, NY\, that features work by artists who live in New York State. The exhibit is an opportunity for artists to showcase their work in a competitive\, juried exhibition. Prizes will be awarded\, including $1000 for Best of Show.   See website for more information and hours.
URL:https://cayugacountychamber.com/event/made-in-ny/2026-04-23/
LOCATION:Schweinfurth Art Center\, 205 Genesee St\, Syracuse\, 13021
CATEGORIES:Community Events
ATTACH;FMTTYPE=image/jpeg:https://cayugacountychamber.com/wp-content/uploads/MINY.AnnalisaBarron.Alesund-Wind-Seat.2025.jpg
END:VEVENT
BEGIN:VEVENT
DTSTART;TZID=America/New_York:20260424T100000
DTEND;TZID=America/New_York:20260611T170000
DTSTAMP:20260419T114227
CREATED:20260327T165951Z
LAST-MODIFIED:20260327T170017Z
UID:10006326-1777024800-1781197200@cayugacountychamber.com
SUMMARY:Made in NY
DESCRIPTION:This is the 30th annual Made in NY exhibition\, a juried show at the Schweinfurth Art Center located in Auburn\, NY\, that features work by artists who live in New York State. The exhibit is an opportunity for artists to showcase their work in a competitive\, juried exhibition. Prizes will be awarded\, including $1000 for Best of Show.   See website for more information and hours.
URL:https://cayugacountychamber.com/event/made-in-ny/2026-04-24/
LOCATION:Schweinfurth Art Center\, 205 Genesee St\, Syracuse\, 13021
CATEGORIES:Community Events
ATTACH;FMTTYPE=image/jpeg:https://cayugacountychamber.com/wp-content/uploads/MINY.AnnalisaBarron.Alesund-Wind-Seat.2025.jpg
END:VEVENT
BEGIN:VEVENT
DTSTART;TZID=America/New_York:20260425T100000
DTEND;TZID=America/New_York:20260612T170000
DTSTAMP:20260419T114227
CREATED:20260327T165951Z
LAST-MODIFIED:20260327T170017Z
UID:10006327-1777111200-1781283600@cayugacountychamber.com
SUMMARY:Made in NY
DESCRIPTION:This is the 30th annual Made in NY exhibition\, a juried show at the Schweinfurth Art Center located in Auburn\, NY\, that features work by artists who live in New York State. The exhibit is an opportunity for artists to showcase their work in a competitive\, juried exhibition. Prizes will be awarded\, including $1000 for Best of Show.   See website for more information and hours.
URL:https://cayugacountychamber.com/event/made-in-ny/2026-04-25/
LOCATION:Schweinfurth Art Center\, 205 Genesee St\, Syracuse\, 13021
CATEGORIES:Community Events
ATTACH;FMTTYPE=image/jpeg:https://cayugacountychamber.com/wp-content/uploads/MINY.AnnalisaBarron.Alesund-Wind-Seat.2025.jpg
END:VEVENT
BEGIN:VEVENT
DTSTART;TZID=America/New_York:20260426T100000
DTEND;TZID=America/New_York:20260613T170000
DTSTAMP:20260419T114227
CREATED:20260327T165951Z
LAST-MODIFIED:20260327T170017Z
UID:10006328-1777197600-1781370000@cayugacountychamber.com
SUMMARY:Made in NY
DESCRIPTION:This is the 30th annual Made in NY exhibition\, a juried show at the Schweinfurth Art Center located in Auburn\, NY\, that features work by artists who live in New York State. The exhibit is an opportunity for artists to showcase their work in a competitive\, juried exhibition. Prizes will be awarded\, including $1000 for Best of Show.   See website for more information and hours.
URL:https://cayugacountychamber.com/event/made-in-ny/2026-04-26/
LOCATION:Schweinfurth Art Center\, 205 Genesee St\, Syracuse\, 13021
CATEGORIES:Community Events
ATTACH;FMTTYPE=image/jpeg:https://cayugacountychamber.com/wp-content/uploads/MINY.AnnalisaBarron.Alesund-Wind-Seat.2025.jpg
END:VEVENT
BEGIN:VEVENT
DTSTART;TZID=America/New_York:20260429T100000
DTEND;TZID=America/New_York:20260616T170000
DTSTAMP:20260419T114227
CREATED:20260327T165951Z
LAST-MODIFIED:20260327T170017Z
UID:10006329-1777456800-1781629200@cayugacountychamber.com
SUMMARY:Made in NY
DESCRIPTION:This is the 30th annual Made in NY exhibition\, a juried show at the Schweinfurth Art Center located in Auburn\, NY\, that features work by artists who live in New York State. The exhibit is an opportunity for artists to showcase their work in a competitive\, juried exhibition. Prizes will be awarded\, including $1000 for Best of Show.   See website for more information and hours.
URL:https://cayugacountychamber.com/event/made-in-ny/2026-04-29/
LOCATION:Schweinfurth Art Center\, 205 Genesee St\, Syracuse\, 13021
CATEGORIES:Community Events
ATTACH;FMTTYPE=image/jpeg:https://cayugacountychamber.com/wp-content/uploads/MINY.AnnalisaBarron.Alesund-Wind-Seat.2025.jpg
END:VEVENT
BEGIN:VEVENT
DTSTART;TZID=America/New_York:20260430T100000
DTEND;TZID=America/New_York:20260617T170000
DTSTAMP:20260419T114227
CREATED:20260327T165951Z
LAST-MODIFIED:20260327T170017Z
UID:10006330-1777543200-1781715600@cayugacountychamber.com
SUMMARY:Made in NY
DESCRIPTION:This is the 30th annual Made in NY exhibition\, a juried show at the Schweinfurth Art Center located in Auburn\, NY\, that features work by artists who live in New York State. The exhibit is an opportunity for artists to showcase their work in a competitive\, juried exhibition. Prizes will be awarded\, including $1000 for Best of Show.   See website for more information and hours.
URL:https://cayugacountychamber.com/event/made-in-ny/2026-04-30/
LOCATION:Schweinfurth Art Center\, 205 Genesee St\, Syracuse\, 13021
CATEGORIES:Community Events
ATTACH;FMTTYPE=image/jpeg:https://cayugacountychamber.com/wp-content/uploads/MINY.AnnalisaBarron.Alesund-Wind-Seat.2025.jpg
END:VEVENT
BEGIN:VEVENT
DTSTART;TZID=America/New_York:20260501T100000
DTEND;TZID=America/New_York:20260618T170000
DTSTAMP:20260419T114227
CREATED:20260327T165951Z
LAST-MODIFIED:20260327T170017Z
UID:10006331-1777629600-1781802000@cayugacountychamber.com
SUMMARY:Made in NY
DESCRIPTION:This is the 30th annual Made in NY exhibition\, a juried show at the Schweinfurth Art Center located in Auburn\, NY\, that features work by artists who live in New York State. The exhibit is an opportunity for artists to showcase their work in a competitive\, juried exhibition. Prizes will be awarded\, including $1000 for Best of Show.   See website for more information and hours.
URL:https://cayugacountychamber.com/event/made-in-ny/2026-05-01/
LOCATION:Schweinfurth Art Center\, 205 Genesee St\, Syracuse\, 13021
CATEGORIES:Community Events
ATTACH;FMTTYPE=image/jpeg:https://cayugacountychamber.com/wp-content/uploads/MINY.AnnalisaBarron.Alesund-Wind-Seat.2025.jpg
END:VEVENT
BEGIN:VEVENT
DTSTART;TZID=America/New_York:20260502T100000
DTEND;TZID=America/New_York:20260619T170000
DTSTAMP:20260419T114227
CREATED:20260327T165951Z
LAST-MODIFIED:20260327T170017Z
UID:10006332-1777716000-1781888400@cayugacountychamber.com
SUMMARY:Made in NY
DESCRIPTION:This is the 30th annual Made in NY exhibition\, a juried show at the Schweinfurth Art Center located in Auburn\, NY\, that features work by artists who live in New York State. The exhibit is an opportunity for artists to showcase their work in a competitive\, juried exhibition. Prizes will be awarded\, including $1000 for Best of Show.   See website for more information and hours.
URL:https://cayugacountychamber.com/event/made-in-ny/2026-05-02/
LOCATION:Schweinfurth Art Center\, 205 Genesee St\, Syracuse\, 13021
CATEGORIES:Community Events
ATTACH;FMTTYPE=image/jpeg:https://cayugacountychamber.com/wp-content/uploads/MINY.AnnalisaBarron.Alesund-Wind-Seat.2025.jpg
END:VEVENT
BEGIN:VEVENT
DTSTART;TZID=America/New_York:20260503T100000
DTEND;TZID=America/New_York:20260620T170000
DTSTAMP:20260419T114227
CREATED:20260327T165951Z
LAST-MODIFIED:20260327T170017Z
UID:10006333-1777802400-1781974800@cayugacountychamber.com
SUMMARY:Made in NY
DESCRIPTION:This is the 30th annual Made in NY exhibition\, a juried show at the Schweinfurth Art Center located in Auburn\, NY\, that features work by artists who live in New York State. The exhibit is an opportunity for artists to showcase their work in a competitive\, juried exhibition. Prizes will be awarded\, including $1000 for Best of Show.   See website for more information and hours.
URL:https://cayugacountychamber.com/event/made-in-ny/2026-05-03/
LOCATION:Schweinfurth Art Center\, 205 Genesee St\, Syracuse\, 13021
CATEGORIES:Community Events
ATTACH;FMTTYPE=image/jpeg:https://cayugacountychamber.com/wp-content/uploads/MINY.AnnalisaBarron.Alesund-Wind-Seat.2025.jpg
END:VEVENT
BEGIN:VEVENT
DTSTART;TZID=America/New_York:20260506T100000
DTEND;TZID=America/New_York:20260623T170000
DTSTAMP:20260419T114227
CREATED:20260327T165951Z
LAST-MODIFIED:20260327T170017Z
UID:10006334-1778061600-1782234000@cayugacountychamber.com
SUMMARY:Made in NY
DESCRIPTION:This is the 30th annual Made in NY exhibition\, a juried show at the Schweinfurth Art Center located in Auburn\, NY\, that features work by artists who live in New York State. The exhibit is an opportunity for artists to showcase their work in a competitive\, juried exhibition. Prizes will be awarded\, including $1000 for Best of Show.   See website for more information and hours.
URL:https://cayugacountychamber.com/event/made-in-ny/2026-05-06/
LOCATION:Schweinfurth Art Center\, 205 Genesee St\, Syracuse\, 13021
CATEGORIES:Community Events
ATTACH;FMTTYPE=image/jpeg:https://cayugacountychamber.com/wp-content/uploads/MINY.AnnalisaBarron.Alesund-Wind-Seat.2025.jpg
END:VEVENT
BEGIN:VEVENT
DTSTART;TZID=America/New_York:20260507T100000
DTEND;TZID=America/New_York:20260624T170000
DTSTAMP:20260419T114227
CREATED:20260327T165951Z
LAST-MODIFIED:20260327T170017Z
UID:10006335-1778148000-1782320400@cayugacountychamber.com
SUMMARY:Made in NY
DESCRIPTION:This is the 30th annual Made in NY exhibition\, a juried show at the Schweinfurth Art Center located in Auburn\, NY\, that features work by artists who live in New York State. The exhibit is an opportunity for artists to showcase their work in a competitive\, juried exhibition. Prizes will be awarded\, including $1000 for Best of Show.   See website for more information and hours.
URL:https://cayugacountychamber.com/event/made-in-ny/2026-05-07/
LOCATION:Schweinfurth Art Center\, 205 Genesee St\, Syracuse\, 13021
CATEGORIES:Community Events
ATTACH;FMTTYPE=image/jpeg:https://cayugacountychamber.com/wp-content/uploads/MINY.AnnalisaBarron.Alesund-Wind-Seat.2025.jpg
END:VEVENT
BEGIN:VEVENT
DTSTART;TZID=America/New_York:20260508T100000
DTEND;TZID=America/New_York:20260625T170000
DTSTAMP:20260419T114227
CREATED:20260327T165951Z
LAST-MODIFIED:20260327T170017Z
UID:10006336-1778234400-1782406800@cayugacountychamber.com
SUMMARY:Made in NY
DESCRIPTION:This is the 30th annual Made in NY exhibition\, a juried show at the Schweinfurth Art Center located in Auburn\, NY\, that features work by artists who live in New York State. The exhibit is an opportunity for artists to showcase their work in a competitive\, juried exhibition. Prizes will be awarded\, including $1000 for Best of Show.   See website for more information and hours.
URL:https://cayugacountychamber.com/event/made-in-ny/2026-05-08/
LOCATION:Schweinfurth Art Center\, 205 Genesee St\, Syracuse\, 13021
CATEGORIES:Community Events
ATTACH;FMTTYPE=image/jpeg:https://cayugacountychamber.com/wp-content/uploads/MINY.AnnalisaBarron.Alesund-Wind-Seat.2025.jpg
END:VEVENT
BEGIN:VEVENT
DTSTART;TZID=America/New_York:20260509T100000
DTEND;TZID=America/New_York:20260626T170000
DTSTAMP:20260419T114227
CREATED:20260327T165951Z
LAST-MODIFIED:20260327T170017Z
UID:10006337-1778320800-1782493200@cayugacountychamber.com
SUMMARY:Made in NY
DESCRIPTION:This is the 30th annual Made in NY exhibition\, a juried show at the Schweinfurth Art Center located in Auburn\, NY\, that features work by artists who live in New York State. The exhibit is an opportunity for artists to showcase their work in a competitive\, juried exhibition. Prizes will be awarded\, including $1000 for Best of Show.   See website for more information and hours.
URL:https://cayugacountychamber.com/event/made-in-ny/2026-05-09/
LOCATION:Schweinfurth Art Center\, 205 Genesee St\, Syracuse\, 13021
CATEGORIES:Community Events
ATTACH;FMTTYPE=image/jpeg:https://cayugacountychamber.com/wp-content/uploads/MINY.AnnalisaBarron.Alesund-Wind-Seat.2025.jpg
END:VEVENT
BEGIN:VEVENT
DTSTART;TZID=America/New_York:20260510T100000
DTEND;TZID=America/New_York:20260627T170000
DTSTAMP:20260419T114227
CREATED:20260327T165951Z
LAST-MODIFIED:20260327T170017Z
UID:10006338-1778407200-1782579600@cayugacountychamber.com
SUMMARY:Made in NY
DESCRIPTION:This is the 30th annual Made in NY exhibition\, a juried show at the Schweinfurth Art Center located in Auburn\, NY\, that features work by artists who live in New York State. The exhibit is an opportunity for artists to showcase their work in a competitive\, juried exhibition. Prizes will be awarded\, including $1000 for Best of Show.   See website for more information and hours.
URL:https://cayugacountychamber.com/event/made-in-ny/2026-05-10/
LOCATION:Schweinfurth Art Center\, 205 Genesee St\, Syracuse\, 13021
CATEGORIES:Community Events
ATTACH;FMTTYPE=image/jpeg:https://cayugacountychamber.com/wp-content/uploads/MINY.AnnalisaBarron.Alesund-Wind-Seat.2025.jpg
END:VEVENT
BEGIN:VEVENT
DTSTART;TZID=America/New_York:20260513T100000
DTEND;TZID=America/New_York:20260630T170000
DTSTAMP:20260419T114227
CREATED:20260327T165951Z
LAST-MODIFIED:20260327T170017Z
UID:10006339-1778666400-1782838800@cayugacountychamber.com
SUMMARY:Made in NY
DESCRIPTION:This is the 30th annual Made in NY exhibition\, a juried show at the Schweinfurth Art Center located in Auburn\, NY\, that features work by artists who live in New York State. The exhibit is an opportunity for artists to showcase their work in a competitive\, juried exhibition. Prizes will be awarded\, including $1000 for Best of Show.   See website for more information and hours.
URL:https://cayugacountychamber.com/event/made-in-ny/2026-05-13/
LOCATION:Schweinfurth Art Center\, 205 Genesee St\, Syracuse\, 13021
CATEGORIES:Community Events
ATTACH;FMTTYPE=image/jpeg:https://cayugacountychamber.com/wp-content/uploads/MINY.AnnalisaBarron.Alesund-Wind-Seat.2025.jpg
END:VEVENT
BEGIN:VEVENT
DTSTART;TZID=America/New_York:20260514T100000
DTEND;TZID=America/New_York:20260701T170000
DTSTAMP:20260419T114227
CREATED:20260327T165951Z
LAST-MODIFIED:20260327T170017Z
UID:10006340-1778752800-1782925200@cayugacountychamber.com
SUMMARY:Made in NY
DESCRIPTION:This is the 30th annual Made in NY exhibition\, a juried show at the Schweinfurth Art Center located in Auburn\, NY\, that features work by artists who live in New York State. The exhibit is an opportunity for artists to showcase their work in a competitive\, juried exhibition. Prizes will be awarded\, including $1000 for Best of Show.   See website for more information and hours.
URL:https://cayugacountychamber.com/event/made-in-ny/2026-05-14/
LOCATION:Schweinfurth Art Center\, 205 Genesee St\, Syracuse\, 13021
CATEGORIES:Community Events
ATTACH;FMTTYPE=image/jpeg:https://cayugacountychamber.com/wp-content/uploads/MINY.AnnalisaBarron.Alesund-Wind-Seat.2025.jpg
END:VEVENT
BEGIN:VEVENT
DTSTART;TZID=America/New_York:20260515T100000
DTEND;TZID=America/New_York:20260702T170000
DTSTAMP:20260419T114227
CREATED:20260327T165951Z
LAST-MODIFIED:20260327T170017Z
UID:10006341-1778839200-1783011600@cayugacountychamber.com
SUMMARY:Made in NY
DESCRIPTION:This is the 30th annual Made in NY exhibition\, a juried show at the Schweinfurth Art Center located in Auburn\, NY\, that features work by artists who live in New York State. The exhibit is an opportunity for artists to showcase their work in a competitive\, juried exhibition. Prizes will be awarded\, including $1000 for Best of Show.   See website for more information and hours.
URL:https://cayugacountychamber.com/event/made-in-ny/2026-05-15/
LOCATION:Schweinfurth Art Center\, 205 Genesee St\, Syracuse\, 13021
CATEGORIES:Community Events
ATTACH;FMTTYPE=image/jpeg:https://cayugacountychamber.com/wp-content/uploads/MINY.AnnalisaBarron.Alesund-Wind-Seat.2025.jpg
END:VEVENT
BEGIN:VEVENT
DTSTART;TZID=America/New_York:20260516T100000
DTEND;TZID=America/New_York:20260703T170000
DTSTAMP:20260419T114227
CREATED:20260327T165951Z
LAST-MODIFIED:20260327T170017Z
UID:10006342-1778925600-1783098000@cayugacountychamber.com
SUMMARY:Made in NY
DESCRIPTION:This is the 30th annual Made in NY exhibition\, a juried show at the Schweinfurth Art Center located in Auburn\, NY\, that features work by artists who live in New York State. The exhibit is an opportunity for artists to showcase their work in a competitive\, juried exhibition. Prizes will be awarded\, including $1000 for Best of Show.   See website for more information and hours.
URL:https://cayugacountychamber.com/event/made-in-ny/2026-05-16/
LOCATION:Schweinfurth Art Center\, 205 Genesee St\, Syracuse\, 13021
CATEGORIES:Community Events
ATTACH;FMTTYPE=image/jpeg:https://cayugacountychamber.com/wp-content/uploads/MINY.AnnalisaBarron.Alesund-Wind-Seat.2025.jpg
END:VEVENT
BEGIN:VEVENT
DTSTART;VALUE=DATE:20260608
DTEND;VALUE=DATE:20260609
DTSTAMP:20260419T114227
CREATED:20260204T135337Z
LAST-MODIFIED:20260204T135337Z
UID:10006237-1780876800-1780963199@cayugacountychamber.com
SUMMARY:28th Annual Hospice Golf Open
DESCRIPTION:Join us at the world-class Calvary Club as we celebrate our 28th anniversary of the Hospice Golf Open! Tee time – 10:00am \nIncludes: 18 holes of golf\, captain & crew format\, lunch on the turn\, cocktail hour\, awards dinner\, raffles\, prizes and on-course contests. \nTo register and for sponsorship information\, please visit our website www.hospicecny.org/event/golfopen/ – Limited spots available -first come-first served \nFor questions\, please call 315-634-1100. \nAll proceeds benefit the patients and their families we serve in four counties – Cayuga\, Onondaga\, Oswego\, and Madison
URL:https://cayugacountychamber.com/event/28th-annual-hospice-golf-open-2/
LOCATION:The Calvary Club\, 4801 Troop K Road\, Manlius\, 13104
CATEGORIES:Community Events
ATTACH;FMTTYPE=image/png:https://cayugacountychamber.com/wp-content/uploads/Golf-STD-FRONT.png
END:VEVENT
BEGIN:VEVENT
DTSTART;TZID=America/New_York:20260612T090000
DTEND;TZID=America/New_York:20260616T160000
DTSTAMP:20260419T114227
CREATED:20260211T204546Z
LAST-MODIFIED:20260211T204546Z
UID:10006260-1781254800-1781625600@cayugacountychamber.com
SUMMARY:Studio Schweinfurth: Skins and Skeletons with Mo Kelman
DESCRIPTION:In this experimental workshop\, students will learn lashing and chaotic weaving methods for building skeletal structures with rattan and bamboo.  On these frameworks\, explore methods for building skins with rice papers\, pigmented and unpigmented gut\, and recycled netting. Paintable graphite\, acrylics\, shellac and Japanese suminagashi marbleizing will further modify membrane surfaces and structures. A series of guided exercises will prompt students to invent unique\, original sculptural forms.
URL:https://cayugacountychamber.com/event/studio-schweinfurth-skins-and-skeletons-with-mo-kelman/
LOCATION:Schweinfurth Art Center\, 205 Genesee St\, Syracuse\, 13021
CATEGORIES:Community Events
ATTACH;FMTTYPE=image/jpeg:https://cayugacountychamber.com/wp-content/uploads/SSMoKelmanFallenCloudCAL.jpg
END:VEVENT
END:VCALENDAR