BEGIN:VCALENDAR
VERSION:2.0
PRODID:-//Cayuga County Chamber of Commerce | Auburn, NY - ECPv6.15.19//NONSGML v1.0//EN
CALSCALE:GREGORIAN
METHOD:PUBLISH
X-WR-CALNAME:Cayuga County Chamber of Commerce | Auburn, NY
X-ORIGINAL-URL:https://cayugacountychamber.com
X-WR-CALDESC:Events for Cayuga County Chamber of Commerce | Auburn, NY
REFRESH-INTERVAL;VALUE=DURATION:PT1H
X-Robots-Tag:noindex
X-PUBLISHED-TTL:PT1H
BEGIN:VTIMEZONE
TZID:America/New_York
BEGIN:DAYLIGHT
TZOFFSETFROM:-0500
TZOFFSETTO:-0400
TZNAME:EDT
DTSTART:20250309T070000
END:DAYLIGHT
BEGIN:STANDARD
TZOFFSETFROM:-0400
TZOFFSETTO:-0500
TZNAME:EST
DTSTART:20251102T060000
END:STANDARD
BEGIN:DAYLIGHT
TZOFFSETFROM:-0500
TZOFFSETTO:-0400
TZNAME:EDT
DTSTART:20260308T070000
END:DAYLIGHT
BEGIN:STANDARD
TZOFFSETFROM:-0400
TZOFFSETTO:-0500
TZNAME:EST
DTSTART:20261101T060000
END:STANDARD
BEGIN:DAYLIGHT
TZOFFSETFROM:-0500
TZOFFSETTO:-0400
TZNAME:EDT
DTSTART:20270314T070000
END:DAYLIGHT
BEGIN:STANDARD
TZOFFSETFROM:-0400
TZOFFSETTO:-0500
TZNAME:EST
DTSTART:20271107T060000
END:STANDARD
END:VTIMEZONE
BEGIN:VEVENT
DTSTART;TZID=America/New_York:20261028T090000
DTEND;TZID=America/New_York:20261030T160000
DTSTAMP:20260421T150155
CREATED:20260211T211642Z
LAST-MODIFIED:20260211T211642Z
UID:10006264-1793178000-1793376000@cayugacountychamber.com
SUMMARY:Patterns\, Skins and Stitch: Three Days of Free-Motion Fun with Paula Kovarik
DESCRIPTION:Want to escape from those ho-hum stitch patterns you always use? We’re going to spend three days stitching for fun. The end result? A beast to join a parade. Imagination\, clairvoyance and experimentation are all in the mix. We’ll play with patterns and scribble new textures. Our focus will be on loosening up\, finding our sense of humor and playing the fool. All levels.
URL:https://cayugacountychamber.com/event/patterns-skins-and-stitch-three-days-of-free-motion-fun-with-paula-kovarik/
LOCATION:Schweinfurth Art Center\, 205 Genesee St\, Syracuse\, 13021
CATEGORIES:Community Events
ATTACH;FMTTYPE=image/jpeg:https://cayugacountychamber.com/wp-content/uploads/SSPaulaKovarikCAL.jpg
END:VEVENT
END:VCALENDAR