BEGIN:VCALENDAR
VERSION:2.0
PRODID:-//Cayuga County Chamber of Commerce | Auburn, NY - ECPv6.15.19//NONSGML v1.0//EN
CALSCALE:GREGORIAN
METHOD:PUBLISH
X-ORIGINAL-URL:https://cayugacountychamber.com
X-WR-CALDESC:Events for Cayuga County Chamber of Commerce | Auburn, NY
REFRESH-INTERVAL;VALUE=DURATION:PT1H
X-Robots-Tag:noindex
X-PUBLISHED-TTL:PT1H
BEGIN:VTIMEZONE
TZID:America/New_York
BEGIN:DAYLIGHT
TZOFFSETFROM:-0500
TZOFFSETTO:-0400
TZNAME:EDT
DTSTART:20250309T070000
END:DAYLIGHT
BEGIN:STANDARD
TZOFFSETFROM:-0400
TZOFFSETTO:-0500
TZNAME:EST
DTSTART:20251102T060000
END:STANDARD
BEGIN:DAYLIGHT
TZOFFSETFROM:-0500
TZOFFSETTO:-0400
TZNAME:EDT
DTSTART:20260308T070000
END:DAYLIGHT
BEGIN:STANDARD
TZOFFSETFROM:-0400
TZOFFSETTO:-0500
TZNAME:EST
DTSTART:20261101T060000
END:STANDARD
BEGIN:DAYLIGHT
TZOFFSETFROM:-0500
TZOFFSETTO:-0400
TZNAME:EDT
DTSTART:20270314T070000
END:DAYLIGHT
BEGIN:STANDARD
TZOFFSETFROM:-0400
TZOFFSETTO:-0500
TZNAME:EST
DTSTART:20271107T060000
END:STANDARD
END:VTIMEZONE
BEGIN:VEVENT
DTSTART;TZID=America/New_York:20260803T090000
DTEND;TZID=America/New_York:20260807T130000
DTSTAMP:20260421T114136
CREATED:20260420T124904Z
LAST-MODIFIED:20260420T124904Z
UID:10006374-1785747600-1786107600@cayugacountychamber.com
SUMMARY:C.A.S.E. Camp
DESCRIPTION:The C.A.S.E. (Culture\, Art\, Science\, and Environment) Camp at the Cayuga Museum of History & Art is a youth camp that connects campers ages 12-14 with their community through the historical\, natural\, and cultural significance of the City of Auburn. Each day of camp will feature a different theme to explore\, with partnering organizations joining on various days to dive into assorted topics. \n  \nAdmission is $100 per camper\, Scholarships are available*
URL:https://cayugacountychamber.com/event/c-a-s-e-camp/
LOCATION:Cayuga Museum of History & Art\, 203 Genesee Street\, Auburn\, NY\, 13021\, United States
CATEGORIES:Community Events
ATTACH;FMTTYPE=image/jpeg:https://cayugacountychamber.com/wp-content/uploads/CASE-Camp.jpg
END:VEVENT
BEGIN:VEVENT
DTSTART;TZID=America/New_York:20260813T180000
DTEND;TZID=America/New_York:20260813T220000
DTSTAMP:20260421T114136
CREATED:20260218T172718Z
LAST-MODIFIED:20260218T172718Z
UID:10006267-1786644000-1786658400@cayugacountychamber.com
SUMMARY:Hospice Family Movie Night
DESCRIPTION:A Film on the Field – Hospice Movie Night – August 13. 2026\nBack again for another year is our family friendly\, A Film on the Field event taking place at NBT Bank Stadium featuring the film The Sand Lot! The event will have pre-show activities\, and a firework show after the film.
URL:https://cayugacountychamber.com/event/hospice-family-movie-night-3/
LOCATION:1 Tex Simone Avenue\, Syracuse\, NY\, 300 NBT Bank Parkway\, Syracuse\, 13208
CATEGORIES:Community Events
ATTACH;FMTTYPE=image/png:https://cayugacountychamber.com/wp-content/uploads/FOTF-Logo-1-1.png
END:VEVENT
END:VCALENDAR