BEGIN:VCALENDAR
VERSION:2.0
PRODID:-//Cayuga County Chamber of Commerce | Auburn, NY - ECPv6.15.19//NONSGML v1.0//EN
CALSCALE:GREGORIAN
METHOD:PUBLISH
X-ORIGINAL-URL:https://cayugacountychamber.com
X-WR-CALDESC:Events for Cayuga County Chamber of Commerce | Auburn, NY
REFRESH-INTERVAL;VALUE=DURATION:PT1H
X-Robots-Tag:noindex
X-PUBLISHED-TTL:PT1H
BEGIN:VTIMEZONE
TZID:America/New_York
BEGIN:DAYLIGHT
TZOFFSETFROM:-0500
TZOFFSETTO:-0400
TZNAME:EDT
DTSTART:20230312T070000
END:DAYLIGHT
BEGIN:STANDARD
TZOFFSETFROM:-0400
TZOFFSETTO:-0500
TZNAME:EST
DTSTART:20231105T060000
END:STANDARD
BEGIN:DAYLIGHT
TZOFFSETFROM:-0500
TZOFFSETTO:-0400
TZNAME:EDT
DTSTART:20240310T070000
END:DAYLIGHT
BEGIN:STANDARD
TZOFFSETFROM:-0400
TZOFFSETTO:-0500
TZNAME:EST
DTSTART:20241103T060000
END:STANDARD
BEGIN:DAYLIGHT
TZOFFSETFROM:-0500
TZOFFSETTO:-0400
TZNAME:EDT
DTSTART:20250309T070000
END:DAYLIGHT
BEGIN:STANDARD
TZOFFSETFROM:-0400
TZOFFSETTO:-0500
TZNAME:EST
DTSTART:20251102T060000
END:STANDARD
END:VTIMEZONE
BEGIN:VEVENT
DTSTART;TZID=America/New_York:20240207T170000
DTEND;TZID=America/New_York:20240207T183000
DTSTAMP:20260420T042637
CREATED:20240111T212011Z
LAST-MODIFIED:20240119T164642Z
UID:10005445-1707325200-1707330600@cayugacountychamber.com
SUMMARY:Business After Five @ Beardsley Architects + Engineers
DESCRIPTION:Business After Five networking event at Beardsley Architects + Engineers on Wednesday\, February 7th\n\nCome enjoy networking with fellow chamber members\, refreshments\, and be sure to bring your business card for a chance to win giveaways! \n\nWe look forward to seeing you! Register Today!
URL:https://cayugacountychamber.com/event/business-after-five-beardsley-architects-engineers/
LOCATION:Beardsley Architects + Engineers\, 64 South Street\, Auburn\, NY\, 13021\, United States
CATEGORIES:Chamber Events
ATTACH;FMTTYPE=image/png:https://cayugacountychamber.com/wp-content/uploads/NEW-BUSINESS-AFTER-5-or-NOON-5.5-×-3.5-in-5.5-×-3-in-14.png
END:VEVENT
BEGIN:VEVENT
DTSTART;TZID=America/New_York:20240228T100000
DTEND;TZID=America/New_York:20240228T110000
DTSTAMP:20260420T042637
CREATED:20240124T215322Z
LAST-MODIFIED:20240124T215715Z
UID:10005455-1709114400-1709118000@cayugacountychamber.com
SUMMARY:Educational Seminar: Your Medicare Questions Answered with Excellus
DESCRIPTION:Medicare 101 Workshop \nGet answers to all your Medicare questions plus some: \n  \n\n\n\nWhen am I eligible for Medicare?\nHow does Medicare Work?\nWhat are Medicare plan options (Medicare Advantage vs. Medigap)\nWhat if I’m still working?\n\n\n\nThis FREE seminar will be hosted by Jeanine Meyers of Excellus. \nIf you can not attend please feel free to reach out to your local Excellus Medicare Representatives to answer all your questions: \nJeanine.meyers@excellus.com and timothy.shadle@excellus.com
URL:https://cayugacountychamber.com/event/educational-seminar-your-medicare-questions-answered-with-excellus/
LOCATION:Cayuga County Chamber of Commerce\, 2 State St\, Auburn\, NY\, 13021\, United States
CATEGORIES:Chamber Events
ATTACH;FMTTYPE=image/png:https://cayugacountychamber.com/wp-content/uploads/Medicare-Feb-2024.png
GEO:42.9315003;-76.5679457
X-APPLE-STRUCTURED-LOCATION;VALUE=URI;X-ADDRESS=Cayuga County Chamber of Commerce 2 State St Auburn NY 13021 United States;X-APPLE-RADIUS=500;X-TITLE=2 State St:geo:-76.5679457,42.9315003
END:VEVENT
END:VCALENDAR