BEGIN:VCALENDAR
VERSION:2.0
PRODID:-//Cayuga County Chamber of Commerce | Auburn, NY - ECPv6.15.19//NONSGML v1.0//EN
CALSCALE:GREGORIAN
METHOD:PUBLISH
X-ORIGINAL-URL:https://cayugacountychamber.com
X-WR-CALDESC:Events for Cayuga County Chamber of Commerce | Auburn, NY
REFRESH-INTERVAL;VALUE=DURATION:PT1H
X-Robots-Tag:noindex
X-PUBLISHED-TTL:PT1H
BEGIN:VTIMEZONE
TZID:America/New_York
BEGIN:DAYLIGHT
TZOFFSETFROM:-0500
TZOFFSETTO:-0400
TZNAME:EDT
DTSTART:20230312T070000
END:DAYLIGHT
BEGIN:STANDARD
TZOFFSETFROM:-0400
TZOFFSETTO:-0500
TZNAME:EST
DTSTART:20231105T060000
END:STANDARD
BEGIN:DAYLIGHT
TZOFFSETFROM:-0500
TZOFFSETTO:-0400
TZNAME:EDT
DTSTART:20240310T070000
END:DAYLIGHT
BEGIN:STANDARD
TZOFFSETFROM:-0400
TZOFFSETTO:-0500
TZNAME:EST
DTSTART:20241103T060000
END:STANDARD
BEGIN:DAYLIGHT
TZOFFSETFROM:-0500
TZOFFSETTO:-0400
TZNAME:EDT
DTSTART:20250309T070000
END:DAYLIGHT
BEGIN:STANDARD
TZOFFSETFROM:-0400
TZOFFSETTO:-0500
TZNAME:EST
DTSTART:20251102T060000
END:STANDARD
END:VTIMEZONE
BEGIN:VEVENT
DTSTART;TZID=America/New_York:20240119T080000
DTEND;TZID=America/New_York:20240127T170000
DTSTAMP:20260422T063015
CREATED:20231206T154309Z
LAST-MODIFIED:20240119T163632Z
UID:10005377-1705651200-1706374800@cayugacountychamber.com
SUMMARY:Restaurant Week 2024
DESCRIPTION:Restaurant Week 2024 will be kicking off January 19th thru the 27th! \nDuring this 9 Days of Deals\, Specials and Promotions restaurants in Cayuga County offer special prix fixe menus\, appetizers\, drink specials and much more! All patrons of participating restaurants have an opportunity to take advantage of these promotions while supporting local restaurants. Details about each restaurant’s special will be available soon on our website\, social media posts and our Tuesday afternoon email! \nJust say “RESTAURANT WEEK” when you place your order! 
URL:https://cayugacountychamber.com/event/restaurant-week-2024/
LOCATION:NY
CATEGORIES:Chamber Events
ATTACH;FMTTYPE=image/png:https://cayugacountychamber.com/wp-content/uploads/Table-Tents-2024-5.25-x-5.5-in-8.5-x-11-in-5.5-x-3-in.png
END:VEVENT
BEGIN:VEVENT
DTSTART;TZID=America/New_York:20240125T170000
DTEND;TZID=America/New_York:20240125T183000
DTSTAMP:20260422T063015
CREATED:20240111T184604Z
LAST-MODIFIED:20240111T185827Z
UID:10005443-1706202000-1706207400@cayugacountychamber.com
SUMMARY:Business After Five @ Cayuga-Onondaga BOCES
DESCRIPTION:Thank you for registering for our Business After Five networking event at\nCayuga Onondaga BOCES onThursday\, January 25th\, 2024 from 5-6:30pm!\n \nCome enjoy networking with fellow chamber members\, refreshments\, and be sure to bring your business card for a chance to win giveaways! The giveaways will include\, gift certificates for oil changes\, tire rotations\, dog grooming\, and a hanging basket from their greenhouse.\n\n\n\nThe event will be catered by BOCES Culinary Program.  The evening will start with a brief presentation of our BOCES Career and Technical Education Programs\, followed by time to network\, and for those that are interested\, a tour of our CTE Facilities/labs. \nRegister Today! \n\nWe look forward to see you!
URL:https://cayugacountychamber.com/event/business-after-five-cayuga-onondaga-boces/
LOCATION:Cayuga-Onondaga BOCES Regional Education Center\, 1879 West Genesee Street Road\, Auburn\, NY\, 13021
CATEGORIES:Chamber Events
ATTACH;FMTTYPE=image/png:https://cayugacountychamber.com/wp-content/uploads/NEW-BUSINESS-AFTER-5-or-NOON-5.5-×-3.5-in-5.5-×-3-in-15.png
END:VEVENT
END:VCALENDAR