BEGIN:VCALENDAR
VERSION:2.0
PRODID:-//Cayuga County Chamber of Commerce | Auburn, NY - ECPv6.15.19//NONSGML v1.0//EN
CALSCALE:GREGORIAN
METHOD:PUBLISH
X-WR-CALNAME:Cayuga County Chamber of Commerce | Auburn, NY
X-ORIGINAL-URL:https://cayugacountychamber.com
X-WR-CALDESC:Events for Cayuga County Chamber of Commerce | Auburn, NY
REFRESH-INTERVAL;VALUE=DURATION:PT1H
X-Robots-Tag:noindex
X-PUBLISHED-TTL:PT1H
BEGIN:VTIMEZONE
TZID:America/New_York
BEGIN:DAYLIGHT
TZOFFSETFROM:-0500
TZOFFSETTO:-0400
TZNAME:EDT
DTSTART:20220313T070000
END:DAYLIGHT
BEGIN:STANDARD
TZOFFSETFROM:-0400
TZOFFSETTO:-0500
TZNAME:EST
DTSTART:20221106T060000
END:STANDARD
BEGIN:DAYLIGHT
TZOFFSETFROM:-0500
TZOFFSETTO:-0400
TZNAME:EDT
DTSTART:20230312T070000
END:DAYLIGHT
BEGIN:STANDARD
TZOFFSETFROM:-0400
TZOFFSETTO:-0500
TZNAME:EST
DTSTART:20231105T060000
END:STANDARD
BEGIN:DAYLIGHT
TZOFFSETFROM:-0500
TZOFFSETTO:-0400
TZNAME:EDT
DTSTART:20240310T070000
END:DAYLIGHT
BEGIN:STANDARD
TZOFFSETFROM:-0400
TZOFFSETTO:-0500
TZNAME:EST
DTSTART:20241103T060000
END:STANDARD
END:VTIMEZONE
BEGIN:VEVENT
DTSTART;TZID=America/New_York:20231110T080000
DTEND;TZID=America/New_York:20231220T170000
DTSTAMP:20260422T080209
CREATED:20231110T154110Z
LAST-MODIFIED:20231110T154110Z
UID:10004372-1699603200-1703091600@cayugacountychamber.com
SUMMARY:Rescue Mission Holiday Toy Drive
DESCRIPTION:The Recuse Mission of Auburn is accepting new unwrapped donations through Tuesday\, December 20\, 2023 (see drop off locations below). Please considering donating to give children in need for a better Holiday Season. \nThere are 51 Homeless Children ranging in age from 2 – 18.\nGift ideas: Board Games\, Barbie’s\, Superhero’s\, Toiletries\, Yard Games\, PJ’s\, Onesies\, Pillow & Blanket Sets\, and Gift Cards. \nDrop off locations:\nChamber of Commerce – 2 State Street\, Auburn NY\nMonday – Friday 8:30-5pm \nRescue Mission of Auburn – 51 Merriman Street\, Auburn\, NY\nMonday – Friday 8:00-4pm \nChamber of Commerce Holiday Party (Lyons National Bank) – 311 Grant Ave Rd\, Auburn\, NY\nNovember 30th from 5-7:30
URL:https://cayugacountychamber.com/event/rescue-mission-holiday-toy-drive/
LOCATION:Cayuga County Chamber of Commerce\, 2 State St\, Auburn\, NY\, 13021\, United States
CATEGORIES:Chamber Events
ATTACH;FMTTYPE=image/png:https://cayugacountychamber.com/wp-content/uploads/rescue-mission-toy-drive-20235.5-x-3-in.png
GEO:42.9315003;-76.5679457
X-APPLE-STRUCTURED-LOCATION;VALUE=URI;X-ADDRESS=Cayuga County Chamber of Commerce 2 State St Auburn NY 13021 United States;X-APPLE-RADIUS=500;X-TITLE=2 State St:geo:-76.5679457,42.9315003
END:VEVENT
END:VCALENDAR