BEGIN:VCALENDAR
VERSION:2.0
PRODID:-//Cayuga County Chamber of Commerce | Auburn, NY - ECPv6.15.19//NONSGML v1.0//EN
CALSCALE:GREGORIAN
METHOD:PUBLISH
X-ORIGINAL-URL:https://cayugacountychamber.com
X-WR-CALDESC:Events for Cayuga County Chamber of Commerce | Auburn, NY
REFRESH-INTERVAL;VALUE=DURATION:PT1H
X-Robots-Tag:noindex
X-PUBLISHED-TTL:PT1H
BEGIN:VTIMEZONE
TZID:America/New_York
BEGIN:DAYLIGHT
TZOFFSETFROM:-0500
TZOFFSETTO:-0400
TZNAME:EDT
DTSTART:20220313T070000
END:DAYLIGHT
BEGIN:STANDARD
TZOFFSETFROM:-0400
TZOFFSETTO:-0500
TZNAME:EST
DTSTART:20221106T060000
END:STANDARD
BEGIN:DAYLIGHT
TZOFFSETFROM:-0500
TZOFFSETTO:-0400
TZNAME:EDT
DTSTART:20230312T070000
END:DAYLIGHT
BEGIN:STANDARD
TZOFFSETFROM:-0400
TZOFFSETTO:-0500
TZNAME:EST
DTSTART:20231105T060000
END:STANDARD
BEGIN:DAYLIGHT
TZOFFSETFROM:-0500
TZOFFSETTO:-0400
TZNAME:EDT
DTSTART:20240310T070000
END:DAYLIGHT
BEGIN:STANDARD
TZOFFSETFROM:-0400
TZOFFSETTO:-0500
TZNAME:EST
DTSTART:20241103T060000
END:STANDARD
END:VTIMEZONE
BEGIN:VEVENT
DTSTART;TZID=America/New_York:20230906T170000
DTEND;TZID=America/New_York:20230906T183000
DTSTAMP:20260422T125612
CREATED:20230804T185229Z
LAST-MODIFIED:20230825T174019Z
UID:10003725-1694019600-1694025000@cayugacountychamber.com
SUMMARY:Business After Five at Seward House Museum
DESCRIPTION:Thank you for registering for our Business After Five networking event at Seward House Museum on Wednesday\, August 6\, 2023 from 5-6:30pm! The event will be held at 33 South Street\, Auburn NY 13021 \nClick Here to Register! \nCome enjoy networking with fellow chamber members\, refreshments\, and be sure to bring your business card for a chance to win giveaways!
URL:https://cayugacountychamber.com/event/business-after-five-at-seward-house-museum/
LOCATION:Seward House Museum\, 33 South Street\, Auburn\, NY\, 13021
CATEGORIES:Chamber Events
ATTACH;FMTTYPE=image/png:https://cayugacountychamber.com/wp-content/uploads/Email-Blast-Graphics_BUSINESS-AFTER-5-or-NOON-5.5-×-3.5-in-10.png
END:VEVENT
BEGIN:VEVENT
DTSTART;TZID=America/New_York:20230927T090000
DTEND;TZID=America/New_York:20231006T120000
DTSTAMP:20260422T125612
CREATED:20230831T195325Z
LAST-MODIFIED:20230925T133632Z
UID:10003794-1695805200-1696593600@cayugacountychamber.com
SUMMARY:Virtual Auction
DESCRIPTION:Bidding will start on September 27th thru October 9th \nThank You Empower Federal Credit Union for being the 2023 Virtual Auction Sponsor \n\nEarthPlanter for donating a 30″ Blackstone EarthPlanter\nEmpower Federal Credit Union for donating YETI Tundra Hall -WHEELED COOLER and Two folding chairs\nTompkins Community Trust for donating Ooni 12″ Pizza Oven with Accessories\nCayuga Lake National Bank for donating Courtley Check Enamel Tea Kettle with a Creamer and Sugar Dish\nSilbert Optical for donating Ray-Ban RB2140 Wayfarer\nNash’s Framing and Art for donating a $150 Framing Gift Certificate\ndel Lago Resort & Casino for donating a $75 Gift Certificate for Portico by Fabio Viviani & Overnight Stay\n LakeSide Enterprises for donating Apple iPad Pro 11\, iPad Cover\, $100 Gift Certificate for LakeSide Entertainment and $100 Gift Certificate for Trading.\nAuburn YMCA for donating One Week of Day Camp 2024\nQuarry Ridge Winery for donating 2 bottles of 2021 Rose & 2 bottles of Dry Riesling\nInns of Aurora for donating a Gift Certificate for one complimentary night of accommodations for two guests at the Inns of Aurora\, plus a $300 credit to the Spa at the Inns of Aurora\nSherwood Inn for donating a Gift Certificate for one-night stay at the Sherwood Inn\, plus $150 dining voucher\, and a complimentary breakfast that will be served on the front porch of the Sherwood Inn from 7am-10am.
URL:https://cayugacountychamber.com/event/virtual-auction/
CATEGORIES:Chamber Events
ATTACH;FMTTYPE=image/png:https://cayugacountychamber.com/wp-content/uploads/Annual-Dinner-Postcard-8.5-×-3.5-in-6-×-3.25-in-2.png
END:VEVENT
END:VCALENDAR