BEGIN:VCALENDAR
VERSION:2.0
PRODID:-//Cayuga County Chamber of Commerce | Auburn, NY - ECPv6.15.19//NONSGML v1.0//EN
CALSCALE:GREGORIAN
METHOD:PUBLISH
X-WR-CALNAME:Cayuga County Chamber of Commerce | Auburn, NY
X-ORIGINAL-URL:https://cayugacountychamber.com
X-WR-CALDESC:Events for Cayuga County Chamber of Commerce | Auburn, NY
REFRESH-INTERVAL;VALUE=DURATION:PT1H
X-Robots-Tag:noindex
X-PUBLISHED-TTL:PT1H
BEGIN:VTIMEZONE
TZID:America/New_York
BEGIN:DAYLIGHT
TZOFFSETFROM:-0500
TZOFFSETTO:-0400
TZNAME:EDT
DTSTART:20220313T070000
END:DAYLIGHT
BEGIN:STANDARD
TZOFFSETFROM:-0400
TZOFFSETTO:-0500
TZNAME:EST
DTSTART:20221106T060000
END:STANDARD
BEGIN:DAYLIGHT
TZOFFSETFROM:-0500
TZOFFSETTO:-0400
TZNAME:EDT
DTSTART:20230312T070000
END:DAYLIGHT
BEGIN:STANDARD
TZOFFSETFROM:-0400
TZOFFSETTO:-0500
TZNAME:EST
DTSTART:20231105T060000
END:STANDARD
BEGIN:DAYLIGHT
TZOFFSETFROM:-0500
TZOFFSETTO:-0400
TZNAME:EDT
DTSTART:20240310T070000
END:DAYLIGHT
BEGIN:STANDARD
TZOFFSETFROM:-0400
TZOFFSETTO:-0500
TZNAME:EST
DTSTART:20241103T060000
END:STANDARD
END:VTIMEZONE
BEGIN:VEVENT
DTSTART;TZID=America/New_York:20230802T170000
DTEND;TZID=America/New_York:20230802T183000
DTSTAMP:20260422T144147
CREATED:20230712T133159Z
LAST-MODIFIED:20230801T192825Z
UID:10003401-1690995600-1691001000@cayugacountychamber.com
SUMMARY:Business After Five at Hilton Garden Inn
DESCRIPTION:Join us for a Business After Five networking event at Hilton Garden Inn on Wednesday\, August 2\, 2023 from 5pm-6:30pm! The event will be held at Hilton Garden Inn located at 74 State Street\, Auburn NY 13021 \n\nCome enjoy light hors’ d’oeuvres and be sure to bring your business card for a chance to win a free overnight certificate and renovation reveal and all the changes made to the public spaces!\n\nRegister Today!
URL:https://cayugacountychamber.com/event/business-after-five-at-hilton-garden-inn/
LOCATION:Hilton Garden Inn Auburn\, 74 State Street\, Auburn\, NY\, 13021\, United States
CATEGORIES:Chamber Events
ATTACH;FMTTYPE=image/png:https://cayugacountychamber.com/wp-content/uploads/Email-Blast-Graphics_BUSINESS-AFTER-5-or-NOON-5.5-×-3.5-in-3.png
GEO:42.9333529;-76.5686004
X-APPLE-STRUCTURED-LOCATION;VALUE=URI;X-ADDRESS=Hilton Garden Inn Auburn 74 State Street Auburn NY 13021 United States;X-APPLE-RADIUS=500;X-TITLE=74 State Street:geo:-76.5686004,42.9333529
END:VEVENT
BEGIN:VEVENT
DTSTART;TZID=America/New_York:20230809T170000
DTEND;TZID=America/New_York:20230809T190000
DTSTAMP:20260422T144147
CREATED:20230725T195445Z
LAST-MODIFIED:20230725T200009Z
UID:10003425-1691600400-1691607600@cayugacountychamber.com
SUMMARY:Leadership Cayuga Alumni Meet Up 
DESCRIPTION:Leadership Cayuga Alumni! \nJoin us from 5-7pm at The Refinery at the Hilton Garden Inn for an evening of networking with fellow alumni. \nReminisce of your time with the #BestClassEver. \n50% of drink sales will benefit the LC Scholarship Fund. \nCayuga County Raffle Basket – $20 per ticket – all funds will go towards the scholarship fund. \nAll are welcome! Bring a friend you think would be great for Leadership Cayuga!  \n\nhttp://events.constantcontact.com/register/event?llr=ttrel7bab&oeidk=a07ejuh39n7717905a9
URL:https://cayugacountychamber.com/event/leadership-cayuga-alumni-meet-up/
LOCATION:The Hilton Garden Inn\, 74 State Street\, Auburn\, NY\, 13021
CATEGORIES:Chamber Events
ATTACH;FMTTYPE=image/png:https://cayugacountychamber.com/wp-content/uploads/Leadership-Cayuga-Networking-8.9.23-5-×-4-in-8-×-4-in-2.png
END:VEVENT
BEGIN:VEVENT
DTSTART;TZID=America/New_York:20230824T160000
DTEND;TZID=America/New_York:20230824T190000
DTSTAMP:20260422T144147
CREATED:20230712T131440Z
LAST-MODIFIED:20230814T141106Z
UID:10003400-1692892800-1692903600@cayugacountychamber.com
SUMMARY:11th Annual Chamber Clambake
DESCRIPTION:Yawger Brook Banquets & Catering\nThursday\, August 24th from 4pm to 7pm \nThis popular networking event is open to all Chamber Members and their employees!\nBusiness Owners: Make THIS your company picnic! \n\nRegister Now!\nMenu Includes:\nLittle Neck Clams\, Shrimp\, Barbeque Pork\, Plain Pork\, Roast Chicken\, Sausage with Peppers & Onions\, Hamburgers\, Hot Dogs\, Salt Potatoes\, Baked Beans\, Mac & Cheese\, Tossed Salad\, Fruit Bowl\, Pasta Salad\nBeverages Included: Soda\, Water and Coffee\nCash Bar\n\nCost for Event: $80 per person \nRegistration open until Friday\, August 18th.\nCancellations made after that date will be billed.\n \nThank You to Our Headline Sponsor\nChemung Canal Trust Company \n \nThank You to Our Silver Sponsor\nMerrill Lynch Wealth Management
URL:https://cayugacountychamber.com/event/11th-annual-chamber-clambake/
LOCATION:Yager Brook Catering\, 989 Chamberlain Road\, Auburn\, NY\, 13021\, United States
CATEGORIES:Chamber Events
ATTACH;FMTTYPE=image/png:https://cayugacountychamber.com/wp-content/uploads/Clambake-FB-Insta-Po-1.png
END:VEVENT
END:VCALENDAR