BEGIN:VCALENDAR
VERSION:2.0
PRODID:-//Cayuga County Chamber of Commerce | Auburn, NY - ECPv6.15.19//NONSGML v1.0//EN
CALSCALE:GREGORIAN
METHOD:PUBLISH
X-WR-CALNAME:Cayuga County Chamber of Commerce | Auburn, NY
X-ORIGINAL-URL:https://cayugacountychamber.com
X-WR-CALDESC:Events for Cayuga County Chamber of Commerce | Auburn, NY
REFRESH-INTERVAL;VALUE=DURATION:PT1H
X-Robots-Tag:noindex
X-PUBLISHED-TTL:PT1H
BEGIN:VTIMEZONE
TZID:America/New_York
BEGIN:DAYLIGHT
TZOFFSETFROM:-0500
TZOFFSETTO:-0400
TZNAME:EDT
DTSTART:20220313T070000
END:DAYLIGHT
BEGIN:STANDARD
TZOFFSETFROM:-0400
TZOFFSETTO:-0500
TZNAME:EST
DTSTART:20221106T060000
END:STANDARD
BEGIN:DAYLIGHT
TZOFFSETFROM:-0500
TZOFFSETTO:-0400
TZNAME:EDT
DTSTART:20230312T070000
END:DAYLIGHT
BEGIN:STANDARD
TZOFFSETFROM:-0400
TZOFFSETTO:-0500
TZNAME:EST
DTSTART:20231105T060000
END:STANDARD
BEGIN:DAYLIGHT
TZOFFSETFROM:-0500
TZOFFSETTO:-0400
TZNAME:EDT
DTSTART:20240310T070000
END:DAYLIGHT
BEGIN:STANDARD
TZOFFSETFROM:-0400
TZOFFSETTO:-0500
TZNAME:EST
DTSTART:20241103T060000
END:STANDARD
END:VTIMEZONE
BEGIN:VEVENT
DTSTART;TZID=America/New_York:20230323T080000
DTEND;TZID=America/New_York:20230323T093000
DTSTAMP:20260422T231316
CREATED:20230213T155413Z
LAST-MODIFIED:20230316T180922Z
UID:10000835-1679558400-1679563800@cayugacountychamber.com
SUMMARY:State of the City and County Presentation
DESCRIPTION:  \n \nPLEASE JOIN THE CHAMBER OF COMMERCE AS WE HOST THE ANNUAL\nState of the City and County Presentation on Thursday\, March 23rd\nfrom 8-9:30am at Auburn Public Theater. \nThe City of Auburn Mayor & Manager\, and the County Chair & Administrator\nwill share their insights on the progress of local economic development.\nChamber members and the public are invited to attend this informative event. \nCoffee\, tea\, and light breakfast refreshments provided by Cafe 108\nTickets are $20 each for members / $25 for non-members. \nEvent Sponsor:
URL:https://cayugacountychamber.com/event/17652/
LOCATION:Auburn Public Theater\, 8 Exchange\, Auburn\, NY\, 13021\, United States
CATEGORIES:Chamber Events
ATTACH;FMTTYPE=image/png:https://cayugacountychamber.com/wp-content/uploads/2023-state-of-schools-1.png
GEO:42.930803;-76.566917
X-APPLE-STRUCTURED-LOCATION;VALUE=URI;X-ADDRESS=Auburn Public Theater 8 Exchange Auburn NY 13021 United States;X-APPLE-RADIUS=500;X-TITLE=8 Exchange:geo:-76.566917,42.930803
END:VEVENT
BEGIN:VEVENT
DTSTART;TZID=America/New_York:20230324T100000
DTEND;TZID=America/New_York:20230324T113000
DTSTAMP:20260422T231316
CREATED:20230306T150730Z
LAST-MODIFIED:20230316T180848Z
UID:10000852-1679652000-1679657400@cayugacountychamber.com
SUMMARY:2023 State of the Schools
DESCRIPTION:Log in to our virtual meeting space for the second installment in this event series! Join us for the State of the Schools update\, featuring Auburn Enlarged City School District Superintendent Jeff Pirozollo\,\nCayuga-Onondaga BOCES District Superintendent Dr. Brian Hartwell\, Cayuga Community College President Dr. Brian Durant\, and Wells College Vice President for Academic & Student Affairs\, Dr. Susan Henking. \nThe State of the Schools address will be online for 2023. Please be aware that you are registering for the State of the Schools address ONLY. If you are interested in other events in the series\, you will need to register individually for each event you’d like to attend. Please visit cayugacountychamber.com/stateof for more information about other events in the series. \nWe look forward to having you join us for this informative address!
URL:https://cayugacountychamber.com/event/2023-state-of-the-schools/
LOCATION:online\, Auburn\, NY\, 13021\, United States
CATEGORIES:Chamber Events
ATTACH;FMTTYPE=image/png:https://cayugacountychamber.com/wp-content/uploads/2023-state-of-schools-1-1.png
END:VEVENT
BEGIN:VEVENT
DTSTART;TZID=America/New_York:20230328T170000
DTEND;TZID=America/New_York:20230328T190000
DTSTAMP:20260422T231316
CREATED:20230310T165829Z
LAST-MODIFIED:20230310T185715Z
UID:10000856-1680022800-1680030000@cayugacountychamber.com
SUMMARY:Business After Five at Schweinfurth Art Center
DESCRIPTION:Please join us for an evening of wine featuring three new art installations!\n\n\n \n\n\nExhibits Include:\n\n\n“Made in NY 2023” in Main Gallery\n\n\n \n\n\n“Triggered\, Truth & Transformation”\n\n\nby Theda Sandiford in the Davis Family Gallery\n\n\n \n\n\n“Positive\, Negative\, Shallow\, and Deep”\n\n\nby Tyrone Johnson-Neuland in Gallery Julius
URL:https://cayugacountychamber.com/event/business-after-five-at-schweinfurth-art-center/
LOCATION:Auburn\, NY\, 13021\, United States
CATEGORIES:Chamber Events
ATTACH;FMTTYPE=image/png:https://cayugacountychamber.com/wp-content/uploads/march-282023-5-7pm-1.png
END:VEVENT
END:VCALENDAR