BEGIN:VCALENDAR
VERSION:2.0
PRODID:-//Cayuga County Chamber of Commerce | Auburn, NY - ECPv6.15.19//NONSGML v1.0//EN
CALSCALE:GREGORIAN
METHOD:PUBLISH
X-WR-CALNAME:Cayuga County Chamber of Commerce | Auburn, NY
X-ORIGINAL-URL:https://cayugacountychamber.com
X-WR-CALDESC:Events for Cayuga County Chamber of Commerce | Auburn, NY
REFRESH-INTERVAL;VALUE=DURATION:PT1H
X-Robots-Tag:noindex
X-PUBLISHED-TTL:PT1H
BEGIN:VTIMEZONE
TZID:America/New_York
BEGIN:DAYLIGHT
TZOFFSETFROM:-0500
TZOFFSETTO:-0400
TZNAME:EDT
DTSTART:20210314T070000
END:DAYLIGHT
BEGIN:STANDARD
TZOFFSETFROM:-0400
TZOFFSETTO:-0500
TZNAME:EST
DTSTART:20211107T060000
END:STANDARD
BEGIN:DAYLIGHT
TZOFFSETFROM:-0500
TZOFFSETTO:-0400
TZNAME:EDT
DTSTART:20220313T070000
END:DAYLIGHT
BEGIN:STANDARD
TZOFFSETFROM:-0400
TZOFFSETTO:-0500
TZNAME:EST
DTSTART:20221106T060000
END:STANDARD
BEGIN:DAYLIGHT
TZOFFSETFROM:-0500
TZOFFSETTO:-0400
TZNAME:EDT
DTSTART:20230312T070000
END:DAYLIGHT
BEGIN:STANDARD
TZOFFSETFROM:-0400
TZOFFSETTO:-0500
TZNAME:EST
DTSTART:20231105T060000
END:STANDARD
END:VTIMEZONE
BEGIN:VEVENT
DTSTART;TZID=America/New_York:20220504T113000
DTEND;TZID=America/New_York:20220504T133000
DTSTAMP:20260423T160602
CREATED:20220418T141429Z
LAST-MODIFIED:20220418T141557Z
UID:10000546-1651663800-1651671000@cayugacountychamber.com
SUMMARY:2022 Chamber Awards Luncheon
DESCRIPTION:The Cayuga County Chamber of Commerce congratulates its 2022 Chamber Award Winners! \nThe Phyllis Goldman Encouragement Award for Women recognizes women in our community who have demonstrated noteworthy entrepreneurial and professional pursuits\, who are committed to community and have served as a role model for other women and girls pursuing their career dreams. This year’s recipient is Sandra Shutter\, Owner of Artistic Impressions Studio & Gallery. \nTerri Bridenbecker Young Professional Award Recognizes an individual who is pursuing excellence in their career. A young professional is a goal-oriented person under the age of 40.  This year’s recipient is Ally Colvin\, Associate Attorney at Hancock Estabrook\, LLP. \nBusiness Leader Award\nHonors businesses that continually invest in Cayuga County & have shown leadership by taking an active role in our community. This year’s recipient is MEDENT. \nSmall Business of the Year Awards\nThese awards celebrate both a newly emerged and a more established small business:\n-In Business Less Than 5 Years – Cafe 108 \n-In Business 5 Years or More –  Yawger Brook Banquets and Catering \nNon-Profit of the Year Award\n-Recognizes a non-profit organization that contributes to the success of our community by enhancing the quality of life or contributing to the economic base of Cayuga County. This year’s recipient is Owasco Watershed Lake Association(OWLA). \nThe Community Leadership Award\, sponsored by Cuddy Financial Services\, is open to Leadership Cayuga Alumni. Leadership Cayuga is a Chamber program geared towards empowering diverse individuals with the knowledge\, skills\, and inspiration to successfully achieve leadership roles while developing a collective resource and problem-solving network to address present and future community needs and challenges.  This year’s recipient is Leadership Cayuga Class of 2009 alumna Monika Salvage\, Project Manager at HEALing Communities Study. \nThe 2022 Chamber Awards Luncheon is scheduled to be an in-person event held at the Springside Inn on May 4th\, 2022 to celebrate our winners! Registration opens at 11:30am and lunch will be served at noon. \nLunch will served in buffet style including: \n\nGarden Salad\nFreshly Baked Rolls & Butter\nLemon Chicken\nPasta Primavera\nOven roasted Potatoes\nSeasonal Vegetables\nCheeses Souffle\nDessert\nCoffee or Tea\n\n*PLEASE CONTACT afuller@cayugacountychamber.com if you have DIETARY RESTRICTIONS and/or concerns.
URL:https://cayugacountychamber.com/event/2022-chamber-awards-luncheon/
LOCATION:Springside Inn\, 6141 W Lake Rd\, Auburn\, NY\, 13021\, United States
CATEGORIES:Chamber Events
ATTACH;FMTTYPE=image/jpeg:https://cayugacountychamber.com/wp-content/uploads/resizeawards.jpg
END:VEVENT
BEGIN:VEVENT
DTSTART;TZID=America/New_York:20220505T090000
DTEND;TZID=America/New_York:20220505T120000
DTSTAMP:20260423T160602
CREATED:20220405T202630Z
LAST-MODIFIED:20220405T202928Z
UID:10000532-1651741200-1651752000@cayugacountychamber.com
SUMMARY:Leadership Cayuga Project Presentations 2022
DESCRIPTION:The Leadership Cayuga Class of 2022 have been hard at work on projects to impact our community. Join us on May 5th at the Hilton Garden Inn or on Zoom to hear their presentations. \nThis event is Hybrid and open to the public. Registration is encouraged.
URL:https://cayugacountychamber.com/event/leadership-cayuga-project-presentations-2022/
LOCATION:Hilton Garden Inn Auburn\, 74 State Street\, Auburn\, NY\, 13021\, United States
CATEGORIES:Chamber Events
ATTACH;FMTTYPE=image/jpeg:https://cayugacountychamber.com/wp-content/uploads/2022-Project-Presentations.jpg
GEO:42.9333529;-76.5686004
X-APPLE-STRUCTURED-LOCATION;VALUE=URI;X-ADDRESS=Hilton Garden Inn Auburn 74 State Street Auburn NY 13021 United States;X-APPLE-RADIUS=500;X-TITLE=74 State Street:geo:-76.5686004,42.9333529
END:VEVENT
BEGIN:VEVENT
DTSTART;TZID=America/New_York:20220511T170000
DTEND;TZID=America/New_York:20220511T190000
DTSTAMP:20260423T160602
CREATED:20220503T192104Z
LAST-MODIFIED:20220503T192104Z
UID:10000572-1652288400-1652295600@cayugacountychamber.com
SUMMARY:Business After Five: Auburn Discount Liquor
DESCRIPTION:Join your fellow Chamber members at Auburn Discount Liquor for our after-hours networking event! \nWednesday\, May 11th\, from 5:00pm-7:00pm at Auburn Discount Liquor. Wine and Canned Cocktail tastings with apps! Make sure to bring your business card for a chance to win a ADL Gift Card! \nRegister today!
URL:https://cayugacountychamber.com/event/business-after-five-auburn-discount-liquor/
LOCATION:Auburn Discount Liquor\, 21 Seminary Street\, Auburn\, NY\, 13021\, United States
CATEGORIES:Chamber Events
ATTACH;FMTTYPE=image/jpeg:https://cayugacountychamber.com/wp-content/uploads/Add-a-heading.jpg
END:VEVENT
BEGIN:VEVENT
DTSTART;TZID=America/New_York:20220518T090000
DTEND;TZID=America/New_York:20220518T220000
DTSTAMP:20260423T160602
CREATED:20220407T124839Z
LAST-MODIFIED:20220412T195302Z
UID:10000533-1652864400-1652911200@cayugacountychamber.com
SUMMARY:Planning for Transition
DESCRIPTION:A Panel Discussion on Succession Planning\n\n\nAll organizations are faced with times of leadership transitions—from retirements to job changes to unexpected life changes. Nonprofit organizations must be serious about planning for smooth and thoughtful transitions of leadership as well as for unexpected departures. \nJoin us as we discuss \n\nwhy succession planning is essential to long-term sustainability\nthe value of having the a succession plan in place\nthe essential components of a plan\nthe value of an interim executive director\nalong with suggested tools and strategies for ensuring that your organization is prepared to deliver on its important work.\n\nEach of the panel participants brings a variety of both personal and professional experience in the nonprofit world. \nPresenters: \nGinny Biesiada\, HR Consultant \nRick Hansinger\,  Just finished serving as Interim Executie Director Nick’s Ride for Friends \nHeidi Holtz\, Stillwork Consulting Group \nLaurie Piccolo\, Executive Director\, CAP Cayuga Seneca \n  \nModerator: \nKaren A. Macier\, retired nonprofit professional
URL:https://cayugacountychamber.com/event/planning-for-transition-2/
LOCATION:Via Zoom\, Auburn\, NY\, 13021\, United States
CATEGORIES:Chamber Events
ATTACH;FMTTYPE=image/jpeg:https://cayugacountychamber.com/wp-content/uploads/Succession-Planning-2.jpg
END:VEVENT
BEGIN:VEVENT
DTSTART;TZID=America/New_York:20220526T113000
DTEND;TZID=America/New_York:20220526T130000
DTSTAMP:20260423T160602
CREATED:20220512T205926Z
LAST-MODIFIED:20220512T210005Z
UID:10000581-1653564600-1653570000@cayugacountychamber.com
SUMMARY:Leadership Cayuga Graduation Luncheon
DESCRIPTION:Leadership Cayuga Alumni\, Chamber Members\, Family and Friends\, \nPlease join us for a delicious luncheon to celebrate the accomplishments of the Leadership Cayuga Class of 2022 and wish them well!  \nDoors open at 11:30\, program and lunch start at 12pm. \nOpen to the public. 
URL:https://cayugacountychamber.com/event/leadership-cayuga-graduation-luncheon/
LOCATION:Carriage House Theatre\, 203 Genesee St\, Auburn\, NY\, 13021\, United States
CATEGORIES:Chamber Events
ATTACH;FMTTYPE=image/jpeg:https://cayugacountychamber.com/wp-content/uploads/LC-2022-Graduation.jpg
END:VEVENT
END:VCALENDAR