BEGIN:VCALENDAR
VERSION:2.0
PRODID:-//Cayuga County Chamber of Commerce | Auburn, NY - ECPv6.15.19//NONSGML v1.0//EN
CALSCALE:GREGORIAN
METHOD:PUBLISH
X-WR-CALNAME:Cayuga County Chamber of Commerce | Auburn, NY
X-ORIGINAL-URL:https://cayugacountychamber.com
X-WR-CALDESC:Events for Cayuga County Chamber of Commerce | Auburn, NY
REFRESH-INTERVAL;VALUE=DURATION:PT1H
X-Robots-Tag:noindex
X-PUBLISHED-TTL:PT1H
BEGIN:VTIMEZONE
TZID:America/New_York
BEGIN:DAYLIGHT
TZOFFSETFROM:-0500
TZOFFSETTO:-0400
TZNAME:EDT
DTSTART:20210314T070000
END:DAYLIGHT
BEGIN:STANDARD
TZOFFSETFROM:-0400
TZOFFSETTO:-0500
TZNAME:EST
DTSTART:20211107T060000
END:STANDARD
BEGIN:DAYLIGHT
TZOFFSETFROM:-0500
TZOFFSETTO:-0400
TZNAME:EDT
DTSTART:20220313T070000
END:DAYLIGHT
BEGIN:STANDARD
TZOFFSETFROM:-0400
TZOFFSETTO:-0500
TZNAME:EST
DTSTART:20221106T060000
END:STANDARD
BEGIN:DAYLIGHT
TZOFFSETFROM:-0500
TZOFFSETTO:-0400
TZNAME:EDT
DTSTART:20230312T070000
END:DAYLIGHT
BEGIN:STANDARD
TZOFFSETFROM:-0400
TZOFFSETTO:-0500
TZNAME:EST
DTSTART:20231105T060000
END:STANDARD
END:VTIMEZONE
BEGIN:VEVENT
DTSTART;TZID=America/New_York:20220404T100000
DTEND;TZID=America/New_York:20220404T110000
DTSTAMP:20260423T173320
CREATED:20220316T125836Z
LAST-MODIFIED:20220316T125836Z
UID:10000496-1649066400-1649070000@cayugacountychamber.com
SUMMARY:Marketing Monday: Social Media Marketing Fundamentals
DESCRIPTION:Social Media has become a proven medium for advertising\, but has your organization been using it effectively? And could you use it better? Do you even really know? \nLearn how proven advertising practices can help improve your organization’s social media feeds to increase visibility and convert your viewers to active customers/participants! \n\nThis presentation will NOT teach you how to dance for TikTok videos\, but it will focus on showing you: \n\nwhich platform(s) work best for your messaging\nhow to create engaging content and the reasoning behind why it’s effective\nhow to use your social media content in collaboration with other advertising and marketing campaigns you may already be running\n\n——————————————————————————- \nPresented By: \nEJ Onori \nCreative Director of Digital West Marketing \n \n 
URL:https://cayugacountychamber.com/event/marketing-monday-social-media-marketing-fundamentals/
LOCATION:Via Zoom\, Auburn\, NY\, 13021\, United States
CATEGORIES:Chamber Events
ATTACH;FMTTYPE=image/jpeg:https://cayugacountychamber.com/wp-content/uploads/Marketing-Monday-Social-Media-Fundamentals.jpg
END:VEVENT
BEGIN:VEVENT
DTSTART;TZID=America/New_York:20220427T170000
DTEND;TZID=America/New_York:20220427T190000
DTSTAMP:20260423T173320
CREATED:20220328T151845Z
LAST-MODIFIED:20220328T152031Z
UID:10000509-1651078800-1651086000@cayugacountychamber.com
SUMMARY:Business After Five: Savannah Bank
DESCRIPTION:Business After Five: Savannah Bank\nJoin your fellow Chamber members at Savannah Bank for the first in-person after-hours networking event of 2022! \nWednesday\, April 27th\, from 5:00pm – 7:00pm at Savannah Bank in Port Byron\, NY. Mooney’s BBQ will be catering the food. \nMake sure to bring your business card for a chance to win a Taste of NY raffle basket! \nRegistration is encouraged.
URL:https://cayugacountychamber.com/event/business-after-five-savannah-bank/
LOCATION:Savannah Bank – Port Byron Branch\, 126 Main St\, Port Byron\, NY\, 13140\, United States
CATEGORIES:Chamber Events
ATTACH;FMTTYPE=image/jpeg:https://cayugacountychamber.com/wp-content/uploads/BUSINESS-AFTER-FIVE-1-1.jpg
END:VEVENT
END:VCALENDAR