BEGIN:VCALENDAR
VERSION:2.0
PRODID:-//Cayuga County Chamber of Commerce | Auburn, NY - ECPv6.15.19//NONSGML v1.0//EN
CALSCALE:GREGORIAN
METHOD:PUBLISH
X-WR-CALNAME:Cayuga County Chamber of Commerce | Auburn, NY
X-ORIGINAL-URL:https://cayugacountychamber.com
X-WR-CALDESC:Events for Cayuga County Chamber of Commerce | Auburn, NY
REFRESH-INTERVAL;VALUE=DURATION:PT1H
X-Robots-Tag:noindex
X-PUBLISHED-TTL:PT1H
BEGIN:VTIMEZONE
TZID:America/New_York
BEGIN:DAYLIGHT
TZOFFSETFROM:-0500
TZOFFSETTO:-0400
TZNAME:EDT
DTSTART:20210314T070000
END:DAYLIGHT
BEGIN:STANDARD
TZOFFSETFROM:-0400
TZOFFSETTO:-0500
TZNAME:EST
DTSTART:20211107T060000
END:STANDARD
BEGIN:DAYLIGHT
TZOFFSETFROM:-0500
TZOFFSETTO:-0400
TZNAME:EDT
DTSTART:20220313T070000
END:DAYLIGHT
BEGIN:STANDARD
TZOFFSETFROM:-0400
TZOFFSETTO:-0500
TZNAME:EST
DTSTART:20221106T060000
END:STANDARD
BEGIN:DAYLIGHT
TZOFFSETFROM:-0500
TZOFFSETTO:-0400
TZNAME:EDT
DTSTART:20230312T070000
END:DAYLIGHT
BEGIN:STANDARD
TZOFFSETFROM:-0400
TZOFFSETTO:-0500
TZNAME:EST
DTSTART:20231105T060000
END:STANDARD
END:VTIMEZONE
BEGIN:VEVENT
DTSTART;TZID=America/New_York:20220324T100000
DTEND;TZID=America/New_York:20220324T110000
DTSTAMP:20260423T191858
CREATED:20220315T135950Z
LAST-MODIFIED:20220315T141059Z
UID:10000299-1648116000-1648119600@cayugacountychamber.com
SUMMARY:2022 State of the City of Auburn
DESCRIPTION:Join us for the 2022 State of the City featuring updates from City of Auburn Mayor Michael Quill and City Manager Jeff Dygert.
URL:https://cayugacountychamber.com/event/2022-state-of-the-city-of-auburn/
LOCATION:Auburn\, NY\, 13021\, United States
CATEGORIES:Chamber Events
ATTACH;FMTTYPE=image/png:https://cayugacountychamber.com/wp-content/uploads/City-.png
END:VEVENT
BEGIN:VEVENT
DTSTART;TZID=America/New_York:20220325T100000
DTEND;TZID=America/New_York:20220325T110000
DTSTAMP:20260423T191858
CREATED:20220315T140129Z
LAST-MODIFIED:20220315T140903Z
UID:10000494-1648202400-1648206000@cayugacountychamber.com
SUMMARY:2022 State of the Schools
DESCRIPTION:Join us for the State of the Schools featuring updates from representatives from Auburn ECSD\, Superintendent\, Jeffrey Pirozzolo\, Cayuga-Onondaga BOCES\, Superintendent Brian Hartwell\, CCC\, President Dr. Brian Durant\, and and Wells College\, President Gibralter.
URL:https://cayugacountychamber.com/event/2022-state-of-the-schools/
LOCATION:Auburn\, NY\, 13021\, United States
CATEGORIES:Chamber Events
ATTACH;FMTTYPE=image/png:https://cayugacountychamber.com/wp-content/uploads/School-.png
END:VEVENT
BEGIN:VEVENT
DTSTART;TZID=America/New_York:20220330T100000
DTEND;TZID=America/New_York:20220330T230000
DTSTAMP:20260423T191858
CREATED:20220315T140554Z
LAST-MODIFIED:20220315T140705Z
UID:10000495-1648634400-1648681200@cayugacountychamber.com
SUMMARY:State of the County
DESCRIPTION:Join the live stream of the final installment in this virtual event series\, featuring an update from Cayuga County Legislature Chair David Gould.
URL:https://cayugacountychamber.com/event/state-of-the-county/
LOCATION:Auburn\, NY\, 13021\, United States
CATEGORIES:Chamber Events
ATTACH;FMTTYPE=image/png:https://cayugacountychamber.com/wp-content/uploads/County-.png
END:VEVENT
END:VCALENDAR