BEGIN:VCALENDAR
VERSION:2.0
PRODID:-//Cayuga County Chamber of Commerce | Auburn, NY - ECPv6.15.19//NONSGML v1.0//EN
CALSCALE:GREGORIAN
METHOD:PUBLISH
X-ORIGINAL-URL:https://cayugacountychamber.com
X-WR-CALDESC:Events for Cayuga County Chamber of Commerce | Auburn, NY
REFRESH-INTERVAL;VALUE=DURATION:PT1H
X-Robots-Tag:noindex
X-PUBLISHED-TTL:PT1H
BEGIN:VTIMEZONE
TZID:America/New_York
BEGIN:DAYLIGHT
TZOFFSETFROM:-0500
TZOFFSETTO:-0400
TZNAME:EDT
DTSTART:20200308T070000
END:DAYLIGHT
BEGIN:STANDARD
TZOFFSETFROM:-0400
TZOFFSETTO:-0500
TZNAME:EST
DTSTART:20201101T060000
END:STANDARD
BEGIN:DAYLIGHT
TZOFFSETFROM:-0500
TZOFFSETTO:-0400
TZNAME:EDT
DTSTART:20210314T070000
END:DAYLIGHT
BEGIN:STANDARD
TZOFFSETFROM:-0400
TZOFFSETTO:-0500
TZNAME:EST
DTSTART:20211107T060000
END:STANDARD
BEGIN:DAYLIGHT
TZOFFSETFROM:-0500
TZOFFSETTO:-0400
TZNAME:EDT
DTSTART:20220313T070000
END:DAYLIGHT
BEGIN:STANDARD
TZOFFSETFROM:-0400
TZOFFSETTO:-0500
TZNAME:EST
DTSTART:20221106T060000
END:STANDARD
END:VTIMEZONE
BEGIN:VEVENT
DTSTART;TZID=America/New_York:20211103T100000
DTEND;TZID=America/New_York:20211103T110000
DTSTAMP:20260424T023443
CREATED:20211019T172845Z
LAST-MODIFIED:20211021T181933Z
UID:10000239-1635933600-1635937200@cayugacountychamber.com
SUMMARY:Educational Webinar: Implementing Retirement Benefits in Your Organization
DESCRIPTION:State and Federal governments may soon require employers to offer a retirement plan.  \nAttend this Zoom information session regarding the Cayuga County Chamber of Commerce’s 401k benefit and how this benefit may be of value to your organization.  \nThis session will discuss the specific features of the MEP\, the benefits associated with the MEP\, the service providers of the MEP\, as well as the cost associated with utilizing the benefit. Read more… \nPresenter: \nJeremy Caza\nPartner\, The Carta Group \n$20.00 for Non-Members \nFree to Chamber members
URL:https://cayugacountychamber.com/event/educational-webinar-implementing-retirement-benefits-in-your-organization/
LOCATION:Via Zoom\, Auburn\, NY\, 13021\, United States
CATEGORIES:Chamber Events
ATTACH;FMTTYPE=image/jpeg:https://cayugacountychamber.com/wp-content/uploads/MEP-Programs-Offering-401K-to-Your-Employees.jpg
END:VEVENT
END:VCALENDAR