BEGIN:VCALENDAR
VERSION:2.0
PRODID:-//Cayuga County Chamber of Commerce | Auburn, NY - ECPv6.15.19//NONSGML v1.0//EN
CALSCALE:GREGORIAN
METHOD:PUBLISH
X-WR-CALNAME:Cayuga County Chamber of Commerce | Auburn, NY
X-ORIGINAL-URL:https://cayugacountychamber.com
X-WR-CALDESC:Events for Cayuga County Chamber of Commerce | Auburn, NY
REFRESH-INTERVAL;VALUE=DURATION:PT1H
X-Robots-Tag:noindex
X-PUBLISHED-TTL:PT1H
BEGIN:VTIMEZONE
TZID:America/New_York
BEGIN:DAYLIGHT
TZOFFSETFROM:-0500
TZOFFSETTO:-0400
TZNAME:EDT
DTSTART:20200308T070000
END:DAYLIGHT
BEGIN:STANDARD
TZOFFSETFROM:-0400
TZOFFSETTO:-0500
TZNAME:EST
DTSTART:20201101T060000
END:STANDARD
BEGIN:DAYLIGHT
TZOFFSETFROM:-0500
TZOFFSETTO:-0400
TZNAME:EDT
DTSTART:20210314T070000
END:DAYLIGHT
BEGIN:STANDARD
TZOFFSETFROM:-0400
TZOFFSETTO:-0500
TZNAME:EST
DTSTART:20211107T060000
END:STANDARD
BEGIN:DAYLIGHT
TZOFFSETFROM:-0500
TZOFFSETTO:-0400
TZNAME:EDT
DTSTART:20220313T070000
END:DAYLIGHT
BEGIN:STANDARD
TZOFFSETFROM:-0400
TZOFFSETTO:-0500
TZNAME:EST
DTSTART:20221106T060000
END:STANDARD
END:VTIMEZONE
BEGIN:VEVENT
DTSTART;VALUE=DATE:20211001
DTEND;VALUE=DATE:20211002
DTSTAMP:20260424T040654
CREATED:20210917T153343Z
LAST-MODIFIED:20210921T194646Z
UID:10000097-1633046400-1633132799@cayugacountychamber.com
SUMMARY:2021 Virtual Auction
DESCRIPTION:The Silent Auction is the Cayuga County Chamber of Commerce’s BIGGEST fundraiser of the year\, our 2020 Virtual Auction was such a success\, that we’re continuing the auction online virtually again for 2021!! \nBidding starts Friday\, September 24th at 8AM and ends Friday\, October 1st at noon. Thank you to everyone who has donated dozens of great items from gift cards to an Apple Watch! \nTHANK YOU TO OUR SPONSORS:\nDIAMOND SPONSORS: Tompkins Trust Company\, Lyons National Bank\, and Wegmans \nSILVER SPONSORS: MEDENT and Savannah Bank
URL:https://cayugacountychamber.com/event/2021-virtual-auction/2021-10-01/
LOCATION:Auburn\, NY\, 13021\, United States
CATEGORIES:Chamber Events
ATTACH;FMTTYPE=image/png:https://cayugacountychamber.com/wp-content/uploads/auction-1200-630-1.png
END:VEVENT
END:VCALENDAR