BEGIN:VCALENDAR
VERSION:2.0
PRODID:-//Cayuga County Chamber of Commerce | Auburn, NY - ECPv6.15.19//NONSGML v1.0//EN
CALSCALE:GREGORIAN
METHOD:PUBLISH
X-ORIGINAL-URL:https://cayugacountychamber.com
X-WR-CALDESC:Events for Cayuga County Chamber of Commerce | Auburn, NY
REFRESH-INTERVAL;VALUE=DURATION:PT1H
X-Robots-Tag:noindex
X-PUBLISHED-TTL:PT1H
BEGIN:VTIMEZONE
TZID:America/New_York
BEGIN:DAYLIGHT
TZOFFSETFROM:-0500
TZOFFSETTO:-0400
TZNAME:EDT
DTSTART:20200308T070000
END:DAYLIGHT
BEGIN:STANDARD
TZOFFSETFROM:-0400
TZOFFSETTO:-0500
TZNAME:EST
DTSTART:20201101T060000
END:STANDARD
BEGIN:DAYLIGHT
TZOFFSETFROM:-0500
TZOFFSETTO:-0400
TZNAME:EDT
DTSTART:20210314T070000
END:DAYLIGHT
BEGIN:STANDARD
TZOFFSETFROM:-0400
TZOFFSETTO:-0500
TZNAME:EST
DTSTART:20211107T060000
END:STANDARD
BEGIN:DAYLIGHT
TZOFFSETFROM:-0500
TZOFFSETTO:-0400
TZNAME:EDT
DTSTART:20220313T070000
END:DAYLIGHT
BEGIN:STANDARD
TZOFFSETFROM:-0400
TZOFFSETTO:-0500
TZNAME:EST
DTSTART:20221106T060000
END:STANDARD
END:VTIMEZONE
BEGIN:VEVENT
DTSTART;TZID=America/New_York:20210916T180000
DTEND;TZID=America/New_York:20210916T210000
DTSTAMP:20260424T055615
CREATED:20210811T193410Z
LAST-MODIFIED:20210811T193410Z
UID:10000142-1631815200-1631826000@cayugacountychamber.com
SUMMARY:“How Well Do You Know Cayuga County?” Trivia Night
DESCRIPTION:Quizeum! Trivia is back at the Cayuga Museum\, but this time you get to show off in-person at the Carriage House Theater! Join us and our guest MC from the Cayuga County Chamber of Commerce! Our next trivia night is called “How Well Do You Know Cayuga County?” Show us everything you know about your county’s history\, economy\, and population!  \nThe next Quizeum will be held on Thursday\, September 16\, at 6 PM in the Carriage House Theater! Gather your friends\, grab some drinks\, and unleash your inner know-it-all. You don’t need to be a scholar of Cayuga County to win! First\, Second\, and Third place teams will all win special prizes! \nSign-ups are available at https://cayugamuseum.org/quizeum-trivia-night/\, or you can sign your team up at the door. Teams can have no more than six players.  Proceeds will support the Cayuga Museum and the Cayuga County Chamber of Commerce. Tease your brain\, grab some drinks\, and have a fun night out while supporting local history and art! \nTeam sign-ups are $10 per person\, $8 for teams including members of the Museum or the Chamber of Commerce. Reach out to Geoff at geoffrey@cayugamuseum.org with any questions or if you would prefer to sign your team up by email. The Carriage House Theater is located behind the Cayuga Museum at 203 Genesee St. Parking is available adjacent to the theater. \nQuizeum! is sponsored by Cayuga Lake National Bank
URL:https://cayugacountychamber.com/event/how-well-do-you-know-cayuga-county-trivia-night/
LOCATION:Carriage House Theatre\, 203 Genesee St\, Auburn\, NY\, 13021\, United States
CATEGORIES:Chamber Events
ATTACH;FMTTYPE=image/png:https://cayugacountychamber.com/wp-content/uploads/CC-Themed-Quizeum-Banner-002.png
END:VEVENT
BEGIN:VEVENT
DTSTART;TZID=America/New_York:20210922T100000
DTEND;TZID=America/New_York:20210922T110000
DTSTAMP:20260424T055615
CREATED:20210804T152518Z
LAST-MODIFIED:20210907T144918Z
UID:10000136-1632304800-1632308400@cayugacountychamber.com
SUMMARY:NYS Sexual Harassment Training for Nonprofit Board Members & Small Businesses
DESCRIPTION:About:\nUnder New York State guidelines\, every public and private employer is required to adopt a sexual harassment prevention program which includes annual sexual harassment training\, sexual harassment policies\, and specific procedures that meet or exceed the requirements outlined in a model notice provided by the NYS Department of Labor and the Division of Human Rights. \nWe know the cost of this can be a deterrent for smaller organizations so the Finger Lakes Grant Information Center (FLGIC) will hold these session throughout the year for non-profit board members. \n**If more than 10 members of your organization need this training\, there may be a more cost-effective option for you! Contact us here for more information.  \nPinnacle Human Resources Consulting\, LLC. has developed a training program that adheres to the NY State guidelines to ensure that all employees and supervisors receive compliant training by applying examples to real-life scenarios\, as well as utilizing learnings into their daily work-life. \nThis event will be held online.  \nOutcomes:\nEach participant will meet their annual requirement for the sexual harassment training (Individual Contributor or Supervisory).  Participants will be e-mailed a certificate of completion upon completion of the training. \nIntended Audience: \nNonprofits Board Members \nSmall businesses with only a few employees \n  \nPresented By: \n\nCaprice Reader\nMBA\, PHR\, SHRM-SCP  \nPinnacle Human Resources \n\nPinnacle Human Resources\, LLC was established on November 1\, 2009. We were formerly a member firm of The Bonadio Group and have continued to service our clients since 2005.The Pinnacle Human Resources staff is comprised of some of the most experienced human resources consultants and staffing professionals in the country. Since 2005\, we have provided HR consulting services to over 4\,000 clients. We offer customized HR support services that encompass the entire HR delivery system. There is almost no project we can’t do. Pinnacle is client-focused\, and we keep adding HR support programs based on client needs. We have a scalable team of internal consultants all available in a “just in time” basis. Caprice Reader is a seasoned professional with over ten years of human resource management experience with a diverse background of industry experience in the manufacturing\, retail\, hospitality and the consumer service industries. Caprice currently consults in the areas of staffing and selection\, HR strategic planning\, managerial procedures\, employment law compliance\, HR audits and policy handbook creation\, long-term HR projects including HR Director support as well as training and development\, serving both virtual and on-site clients in the Central New York area. Caprice is a certified Professional in Human Resources (PHR)\, as well as a certified Professional from the Society of Human Resources Management (SHRM-CP). She holds a Bachelor of Science degree in Business Administration (concentration in Human Resources Management)\, as well as Master of Business of Administration (concentration in Human Resources Management) from SUNY Oswego. She is a member of the Board of Directors for the Central NY Chapter of SHRM and chairs the Programming/Events Committee\, as well as an active member of the National Chapter of SHRM and an active member of the Central NY Association of Talent Development. \n____________________________________________________________________________________ \n \nThrough the Finger Lakes Grant Information Center\, you can… \n\ngain access to the Foundation Center databases listing of over 140\,000 foundations and over 4 million grants.\nfind answers to your questions about statistics that address issues of local concern.\nattend the workshops\, forums\, and panels of interest to you\, scheduled throughout the year\, on topics ranging from fundraising to social media to nonprofit sustainability and board governance.\nmeet with our Grant Supervisor to find the answers to your questions regarding access to information that will help you be successful in your pursuit of funding.\n\nFor More information on FLGIC click here.
URL:https://cayugacountychamber.com/event/nys-sexual-harassment-training-for-nonprofit-board-members-small-businesses/
LOCATION:Cayuga County Chamber of Commerce\, 2 State St\, Auburn\, NY\, 13021\, United States
CATEGORIES:Chamber Events
ATTACH;FMTTYPE=image/jpeg:https://cayugacountychamber.com/wp-content/uploads/NYS-Sexual-Harrassment-Training-for-Nonprofit-Board-Members-1.jpg
GEO:42.9315003;-76.5679457
X-APPLE-STRUCTURED-LOCATION;VALUE=URI;X-ADDRESS=Cayuga County Chamber of Commerce 2 State St Auburn NY 13021 United States;X-APPLE-RADIUS=500;X-TITLE=2 State St:geo:-76.5679457,42.9315003
END:VEVENT
BEGIN:VEVENT
DTSTART;VALUE=DATE:20210924
DTEND;VALUE=DATE:20210925
DTSTAMP:20260424T055615
CREATED:20210917T153343Z
LAST-MODIFIED:20210921T194646Z
UID:10000090-1632441600-1632527999@cayugacountychamber.com
SUMMARY:2021 Virtual Auction
DESCRIPTION:The Silent Auction is the Cayuga County Chamber of Commerce’s BIGGEST fundraiser of the year\, our 2020 Virtual Auction was such a success\, that we’re continuing the auction online virtually again for 2021!! \nBidding starts Friday\, September 24th at 8AM and ends Friday\, October 1st at noon. Thank you to everyone who has donated dozens of great items from gift cards to an Apple Watch! \nTHANK YOU TO OUR SPONSORS:\nDIAMOND SPONSORS: Tompkins Trust Company\, Lyons National Bank\, and Wegmans \nSILVER SPONSORS: MEDENT and Savannah Bank
URL:https://cayugacountychamber.com/event/2021-virtual-auction/2021-09-24/
LOCATION:Auburn\, NY\, 13021\, United States
CATEGORIES:Chamber Events
ATTACH;FMTTYPE=image/png:https://cayugacountychamber.com/wp-content/uploads/auction-1200-630-1.png
END:VEVENT
BEGIN:VEVENT
DTSTART;VALUE=DATE:20210925
DTEND;VALUE=DATE:20210926
DTSTAMP:20260424T055615
CREATED:20210917T153343Z
LAST-MODIFIED:20210921T194646Z
UID:10000091-1632528000-1632614399@cayugacountychamber.com
SUMMARY:2021 Virtual Auction
DESCRIPTION:The Silent Auction is the Cayuga County Chamber of Commerce’s BIGGEST fundraiser of the year\, our 2020 Virtual Auction was such a success\, that we’re continuing the auction online virtually again for 2021!! \nBidding starts Friday\, September 24th at 8AM and ends Friday\, October 1st at noon. Thank you to everyone who has donated dozens of great items from gift cards to an Apple Watch! \nTHANK YOU TO OUR SPONSORS:\nDIAMOND SPONSORS: Tompkins Trust Company\, Lyons National Bank\, and Wegmans \nSILVER SPONSORS: MEDENT and Savannah Bank
URL:https://cayugacountychamber.com/event/2021-virtual-auction/2021-09-25/
LOCATION:Auburn\, NY\, 13021\, United States
CATEGORIES:Chamber Events
ATTACH;FMTTYPE=image/png:https://cayugacountychamber.com/wp-content/uploads/auction-1200-630-1.png
END:VEVENT
BEGIN:VEVENT
DTSTART;VALUE=DATE:20210926
DTEND;VALUE=DATE:20210927
DTSTAMP:20260424T055615
CREATED:20210917T153343Z
LAST-MODIFIED:20210921T194646Z
UID:10000092-1632614400-1632700799@cayugacountychamber.com
SUMMARY:2021 Virtual Auction
DESCRIPTION:The Silent Auction is the Cayuga County Chamber of Commerce’s BIGGEST fundraiser of the year\, our 2020 Virtual Auction was such a success\, that we’re continuing the auction online virtually again for 2021!! \nBidding starts Friday\, September 24th at 8AM and ends Friday\, October 1st at noon. Thank you to everyone who has donated dozens of great items from gift cards to an Apple Watch! \nTHANK YOU TO OUR SPONSORS:\nDIAMOND SPONSORS: Tompkins Trust Company\, Lyons National Bank\, and Wegmans \nSILVER SPONSORS: MEDENT and Savannah Bank
URL:https://cayugacountychamber.com/event/2021-virtual-auction/2021-09-26/
LOCATION:Auburn\, NY\, 13021\, United States
CATEGORIES:Chamber Events
ATTACH;FMTTYPE=image/png:https://cayugacountychamber.com/wp-content/uploads/auction-1200-630-1.png
END:VEVENT
BEGIN:VEVENT
DTSTART;VALUE=DATE:20210927
DTEND;VALUE=DATE:20210928
DTSTAMP:20260424T055615
CREATED:20210917T153343Z
LAST-MODIFIED:20210921T194646Z
UID:10000093-1632700800-1632787199@cayugacountychamber.com
SUMMARY:2021 Virtual Auction
DESCRIPTION:The Silent Auction is the Cayuga County Chamber of Commerce’s BIGGEST fundraiser of the year\, our 2020 Virtual Auction was such a success\, that we’re continuing the auction online virtually again for 2021!! \nBidding starts Friday\, September 24th at 8AM and ends Friday\, October 1st at noon. Thank you to everyone who has donated dozens of great items from gift cards to an Apple Watch! \nTHANK YOU TO OUR SPONSORS:\nDIAMOND SPONSORS: Tompkins Trust Company\, Lyons National Bank\, and Wegmans \nSILVER SPONSORS: MEDENT and Savannah Bank
URL:https://cayugacountychamber.com/event/2021-virtual-auction/2021-09-27/
LOCATION:Auburn\, NY\, 13021\, United States
CATEGORIES:Chamber Events
ATTACH;FMTTYPE=image/png:https://cayugacountychamber.com/wp-content/uploads/auction-1200-630-1.png
END:VEVENT
BEGIN:VEVENT
DTSTART;VALUE=DATE:20210928
DTEND;VALUE=DATE:20210929
DTSTAMP:20260424T055615
CREATED:20210917T153343Z
LAST-MODIFIED:20210921T194646Z
UID:10000094-1632787200-1632873599@cayugacountychamber.com
SUMMARY:2021 Virtual Auction
DESCRIPTION:The Silent Auction is the Cayuga County Chamber of Commerce’s BIGGEST fundraiser of the year\, our 2020 Virtual Auction was such a success\, that we’re continuing the auction online virtually again for 2021!! \nBidding starts Friday\, September 24th at 8AM and ends Friday\, October 1st at noon. Thank you to everyone who has donated dozens of great items from gift cards to an Apple Watch! \nTHANK YOU TO OUR SPONSORS:\nDIAMOND SPONSORS: Tompkins Trust Company\, Lyons National Bank\, and Wegmans \nSILVER SPONSORS: MEDENT and Savannah Bank
URL:https://cayugacountychamber.com/event/2021-virtual-auction/2021-09-28/
LOCATION:Auburn\, NY\, 13021\, United States
CATEGORIES:Chamber Events
ATTACH;FMTTYPE=image/png:https://cayugacountychamber.com/wp-content/uploads/auction-1200-630-1.png
END:VEVENT
BEGIN:VEVENT
DTSTART;VALUE=DATE:20210929
DTEND;VALUE=DATE:20210930
DTSTAMP:20260424T055615
CREATED:20210917T153343Z
LAST-MODIFIED:20210921T194646Z
UID:10000095-1632873600-1632959999@cayugacountychamber.com
SUMMARY:2021 Virtual Auction
DESCRIPTION:The Silent Auction is the Cayuga County Chamber of Commerce’s BIGGEST fundraiser of the year\, our 2020 Virtual Auction was such a success\, that we’re continuing the auction online virtually again for 2021!! \nBidding starts Friday\, September 24th at 8AM and ends Friday\, October 1st at noon. Thank you to everyone who has donated dozens of great items from gift cards to an Apple Watch! \nTHANK YOU TO OUR SPONSORS:\nDIAMOND SPONSORS: Tompkins Trust Company\, Lyons National Bank\, and Wegmans \nSILVER SPONSORS: MEDENT and Savannah Bank
URL:https://cayugacountychamber.com/event/2021-virtual-auction/2021-09-29/
LOCATION:Auburn\, NY\, 13021\, United States
CATEGORIES:Chamber Events
ATTACH;FMTTYPE=image/png:https://cayugacountychamber.com/wp-content/uploads/auction-1200-630-1.png
END:VEVENT
BEGIN:VEVENT
DTSTART;VALUE=DATE:20210930
DTEND;VALUE=DATE:20211001
DTSTAMP:20260424T055615
CREATED:20210917T153343Z
LAST-MODIFIED:20210921T194646Z
UID:10000096-1632960000-1633046399@cayugacountychamber.com
SUMMARY:2021 Virtual Auction
DESCRIPTION:The Silent Auction is the Cayuga County Chamber of Commerce’s BIGGEST fundraiser of the year\, our 2020 Virtual Auction was such a success\, that we’re continuing the auction online virtually again for 2021!! \nBidding starts Friday\, September 24th at 8AM and ends Friday\, October 1st at noon. Thank you to everyone who has donated dozens of great items from gift cards to an Apple Watch! \nTHANK YOU TO OUR SPONSORS:\nDIAMOND SPONSORS: Tompkins Trust Company\, Lyons National Bank\, and Wegmans \nSILVER SPONSORS: MEDENT and Savannah Bank
URL:https://cayugacountychamber.com/event/2021-virtual-auction/2021-09-30/
LOCATION:Auburn\, NY\, 13021\, United States
CATEGORIES:Chamber Events
ATTACH;FMTTYPE=image/png:https://cayugacountychamber.com/wp-content/uploads/auction-1200-630-1.png
END:VEVENT
END:VCALENDAR