BEGIN:VCALENDAR
VERSION:2.0
PRODID:-//Cayuga County Chamber of Commerce | Auburn, NY - ECPv6.15.19//NONSGML v1.0//EN
CALSCALE:GREGORIAN
METHOD:PUBLISH
X-WR-CALNAME:Cayuga County Chamber of Commerce | Auburn, NY
X-ORIGINAL-URL:https://cayugacountychamber.com
X-WR-CALDESC:Events for Cayuga County Chamber of Commerce | Auburn, NY
REFRESH-INTERVAL;VALUE=DURATION:PT1H
X-Robots-Tag:noindex
X-PUBLISHED-TTL:PT1H
BEGIN:VTIMEZONE
TZID:America/New_York
BEGIN:DAYLIGHT
TZOFFSETFROM:-0500
TZOFFSETTO:-0400
TZNAME:EDT
DTSTART:20200308T070000
END:DAYLIGHT
BEGIN:STANDARD
TZOFFSETFROM:-0400
TZOFFSETTO:-0500
TZNAME:EST
DTSTART:20201101T060000
END:STANDARD
BEGIN:DAYLIGHT
TZOFFSETFROM:-0500
TZOFFSETTO:-0400
TZNAME:EDT
DTSTART:20210314T070000
END:DAYLIGHT
BEGIN:STANDARD
TZOFFSETFROM:-0400
TZOFFSETTO:-0500
TZNAME:EST
DTSTART:20211107T060000
END:STANDARD
BEGIN:DAYLIGHT
TZOFFSETFROM:-0500
TZOFFSETTO:-0400
TZNAME:EDT
DTSTART:20220313T070000
END:DAYLIGHT
BEGIN:STANDARD
TZOFFSETFROM:-0400
TZOFFSETTO:-0500
TZNAME:EST
DTSTART:20221106T060000
END:STANDARD
END:VTIMEZONE
BEGIN:VEVENT
DTSTART;TZID=America/New_York:20210712T080000
DTEND;TZID=America/New_York:20210712T170000
DTSTAMP:20260424T093022
CREATED:20210712T193814Z
LAST-MODIFIED:20210712T195124Z
UID:10000127-1626076800-1626109200@cayugacountychamber.com
SUMMARY:Grant Writing Changes & the Post-Covid Shift: How to Pivot Your Organizational Grant Writing Strategy in 2021
DESCRIPTION:In 2020\, every nonprofit has struggled with change and challenges. \nEverything changed and likely so did your programs\, your solutions\, and your organization. How can you tell a story to grant makers that makes your organization’s work relevant\, urgent\, and worthy of investment? \n\nReflect the new normal (societal need) \nPut voices of who you serve front and center (relevance) \nAnticipate funder expectations (diversity\, equity & inclusion)\n\nJoin us for this informative webinar on August 5th! \n  \nThis webinar will be presented by: Cara Leigh Battaglia  \nCara-Leigh Battaglia holds a B.A. from Nazareth College in Rochester\, NY (English/Writing) and an M.S. from Radford University in Radford\, VA (English/Teaching Composition). She has an extensive and diverse background in fundraising\, marketing\, education\, and business development. She has held management and executive-level positions in non-profit and for-profit businesses\, founded several organizations\, and served as a professional consultant for over 30 years. As an educator\, she embraced non-traditional methods in elementary and secondary level classrooms\, and has taught as an adjunct and assistant professor at the college level. She serves on several boards of non-profit organizations\, including The Motherhood Foundation. She previously served as Executive Director of the National Math Foundation\, Inc. Her personal and professional experience with trauma-informed care has led to a number of publishing\, professional development and presentation opportunities as an author and speaker. Her webinars and trainings are regularly presented at local\, regional and state agencies and associations as well as state and national conferences on a variety of topics.
URL:https://cayugacountychamber.com/event/grant-writing-changes-the-post-covid-shift-how-to-pivot-your-organizational-grant-writing-strategy-in-2021/
LOCATION:Auburn\, NY\, 13021\, United States
CATEGORIES:Chamber Events
ATTACH;FMTTYPE=image/jpeg:https://cayugacountychamber.com/wp-content/uploads/Grant-Writing-Post-COVID.jpg
END:VEVENT
BEGIN:VEVENT
DTSTART;TZID=America/New_York:20210716T100000
DTEND;TZID=America/New_York:20210716T100000
DTSTAMP:20260424T093022
CREATED:20210429T125840Z
LAST-MODIFIED:20210629T172324Z
UID:10000003-1626429600-1626429600@cayugacountychamber.com
SUMMARY:28th Annual Chamber Cup Golf Tournament
DESCRIPTION:Join us for our 28th year on the course for a great game of golf with members and friends!  \nOpen to teams of four players each\, this year’s Annual Golf Tournament will  proceed in a Captain and Crew format. The collegial and sometimes competitive event includes such games as the Longest Drive\, Skins\, Closest to the Pin\, and the Hole in One. The winning team receives the prestigious “Chamber Cup.” \nYour $420 per foursome fee includes golf with cart\, lunch on the course and a boxed dinner to take home. Register your crew today\, and see you on the green! \nREGISTRATION STARTS AT 9:00 AM \nRegistration deadline:  July 9th
URL:https://cayugacountychamber.com/event/28th-annual-chamber-cup-golf-tournament/
LOCATION:Highland Park Golf Course\, 3068 Franklin Street Rd\, Auburn\, NY\, 13021\, United States
CATEGORIES:Chamber Events
ATTACH;FMTTYPE=image/png:https://cayugacountychamber.com/wp-content/uploads/27th-Annuak.png
END:VEVENT
END:VCALENDAR